BEGIN:VCALENDAR
VERSION:2.0
PRODID:-//Församlingen Arken - ECPv6.15.20//NONSGML v1.0//EN
CALSCALE:GREGORIAN
METHOD:PUBLISH
X-WR-CALNAME:Församlingen Arken
X-ORIGINAL-URL:https://www.arken.org
X-WR-CALDESC:Händelser för Församlingen Arken
REFRESH-INTERVAL;VALUE=DURATION:PT1H
X-Robots-Tag:noindex
X-PUBLISHED-TTL:PT1H
BEGIN:VTIMEZONE
TZID:Europe/Stockholm
BEGIN:DAYLIGHT
TZOFFSETFROM:+0100
TZOFFSETTO:+0200
TZNAME:CEST
DTSTART:20180325T010000
END:DAYLIGHT
BEGIN:STANDARD
TZOFFSETFROM:+0200
TZOFFSETTO:+0100
TZNAME:CET
DTSTART:20181028T010000
END:STANDARD
BEGIN:DAYLIGHT
TZOFFSETFROM:+0100
TZOFFSETTO:+0200
TZNAME:CEST
DTSTART:20190331T010000
END:DAYLIGHT
BEGIN:STANDARD
TZOFFSETFROM:+0200
TZOFFSETTO:+0100
TZNAME:CET
DTSTART:20191027T010000
END:STANDARD
BEGIN:DAYLIGHT
TZOFFSETFROM:+0100
TZOFFSETTO:+0200
TZNAME:CEST
DTSTART:20200329T010000
END:DAYLIGHT
BEGIN:STANDARD
TZOFFSETFROM:+0200
TZOFFSETTO:+0100
TZNAME:CET
DTSTART:20201025T010000
END:STANDARD
END:VTIMEZONE
BEGIN:VEVENT
DTSTART;VALUE=DATE:20190627
DTEND;VALUE=DATE:20190707
DTSTAMP:20260426T054848
CREATED:20190514T115314Z
LAST-MODIFIED:20190514T115314Z
UID:22764-1561593600-1562457599@www.arken.org
SUMMARY:Evangelisationsskola med Jana Pauls
DESCRIPTION:Evangelisationsskolan pågår 27 juni – 6 juli.\nDu kan delta förmiddagar\, kvällar eller vara med hela dagen.\nSkolan innehåller både teoriundervisning och praktik ute på gatorna. Skolan är avgiftsfri. \nJana Pauls från Rodney Howard Browne Ministry kommer att undervisa och handleda. \nJana är en brinnande evangelist. Trots sin unga ålder har hon hunnit arrangera flera evangelisationssatsningar i många olika länder. Jana ivrar för att utrusta kristna till evangelisation. Hon vill ge alla kristna ny mod och eld till att berätta om tron på Jesus och hjälpa andra att hitta vägen till Honom. \nOm du aldrig tidigare i ditt liv har lett någon till Jesus\, kommer du att få erfara det i sommar. Du kommer att få praktisera och dela din tro på Jesus till medmänniskor. \n 
URL:https://www.arken.org/event/6131-3/
LOCATION:Kungsängen
CATEGORIES:Första sidan,Utbildning
ATTACH;FMTTYPE=image/jpeg:https://www.arken.org/wp-content/uploads/2019/05/JanaPauls-inlägg.jpg
END:VEVENT
BEGIN:VEVENT
DTSTART;TZID=Europe/Stockholm:20190702T140000
DTEND;TZID=Europe/Stockholm:20190702T140000
DTSTAMP:20260426T054848
CREATED:20180619T100320Z
LAST-MODIFIED:20180619T100320Z
UID:22357-1562076000-1562076000@www.arken.org
SUMMARY:Helandemöte
DESCRIPTION:Helandemötet är bara på TISDAGAR till och med 9 juli. Efter den 9 juli tar helandemötet sommaruppehåll fram till hösten. \nHit kan du gärna bjuda med de som är sjuka\, dag-lediga och dem som har har behov av personlig betjäning. Plats: Barnkyrkans lokal.
URL:https://www.arken.org/event/helandeundervisning-3-2-2-2-2-2-3-2-2-2-2-2-2-3-3-7-5-3-2-3/
LOCATION:Kungsängen
CATEGORIES:Helandemöte
ATTACH;FMTTYPE=image/jpeg:https://www.arken.org/wp-content/uploads/2018/08/helandeundervisning.jpg
END:VEVENT
END:VCALENDAR