BEGIN:VCALENDAR
VERSION:2.0
PRODID:-//Församlingen Arken - ECPv6.15.20//NONSGML v1.0//EN
CALSCALE:GREGORIAN
METHOD:PUBLISH
X-WR-CALNAME:Församlingen Arken
X-ORIGINAL-URL:https://www.arken.org
X-WR-CALDESC:Händelser för Församlingen Arken
REFRESH-INTERVAL;VALUE=DURATION:PT1H
X-Robots-Tag:noindex
X-PUBLISHED-TTL:PT1H
BEGIN:VTIMEZONE
TZID:Europe/Stockholm
BEGIN:DAYLIGHT
TZOFFSETFROM:+0100
TZOFFSETTO:+0200
TZNAME:CEST
DTSTART:20180325T010000
END:DAYLIGHT
BEGIN:STANDARD
TZOFFSETFROM:+0200
TZOFFSETTO:+0100
TZNAME:CET
DTSTART:20181028T010000
END:STANDARD
BEGIN:DAYLIGHT
TZOFFSETFROM:+0100
TZOFFSETTO:+0200
TZNAME:CEST
DTSTART:20190331T010000
END:DAYLIGHT
BEGIN:STANDARD
TZOFFSETFROM:+0200
TZOFFSETTO:+0100
TZNAME:CET
DTSTART:20191027T010000
END:STANDARD
BEGIN:DAYLIGHT
TZOFFSETFROM:+0100
TZOFFSETTO:+0200
TZNAME:CEST
DTSTART:20200329T010000
END:DAYLIGHT
BEGIN:STANDARD
TZOFFSETFROM:+0200
TZOFFSETTO:+0100
TZNAME:CET
DTSTART:20201025T010000
END:STANDARD
END:VTIMEZONE
BEGIN:VEVENT
DTSTART;VALUE=DATE:20190901
DTEND;VALUE=DATE:20190902
DTSTAMP:20260426T032206
CREATED:20180720T121050Z
LAST-MODIFIED:20180720T121050Z
UID:22398-1567296000-1567382399@www.arken.org
SUMMARY:Helandemöte i Uppsala med Linda Bergling
DESCRIPTION:Plats: Skomakargatan 2\, Uppsala. Buss: Mot Årsta N  \nDela gärna detta och bjud med dina vänner. Ingen anmälan och fri entré! \nDatum i höst: 1 september\n \nTid:\n16.00: Fika & gemenskap (fika till självkostnadspris)\n17.00: Lovsång\, predikan\, individuell och kollektiv betjäning \n Varmt välkomna!
URL:https://www.arken.org/event/helandemote-i-uppsala-med-linda-bergling-2-2/
LOCATION:Kungsängen
CATEGORIES:Event,Helandemöte,Kvällsmöte
ATTACH;FMTTYPE=image/jpeg:https://www.arken.org/wp-content/uploads/2018/07/linda.jpg
END:VEVENT
END:VCALENDAR