BEGIN:VCALENDAR
VERSION:2.0
PRODID:-//Församlingen Arken - ECPv6.15.20//NONSGML v1.0//EN
CALSCALE:GREGORIAN
METHOD:PUBLISH
X-ORIGINAL-URL:https://www.arken.org
X-WR-CALDESC:Händelser för Församlingen Arken
REFRESH-INTERVAL;VALUE=DURATION:PT1H
X-Robots-Tag:noindex
X-PUBLISHED-TTL:PT1H
BEGIN:VTIMEZONE
TZID:Europe/Stockholm
BEGIN:DAYLIGHT
TZOFFSETFROM:+0100
TZOFFSETTO:+0200
TZNAME:CEST
DTSTART:20180325T010000
END:DAYLIGHT
BEGIN:STANDARD
TZOFFSETFROM:+0200
TZOFFSETTO:+0100
TZNAME:CET
DTSTART:20181028T010000
END:STANDARD
BEGIN:DAYLIGHT
TZOFFSETFROM:+0100
TZOFFSETTO:+0200
TZNAME:CEST
DTSTART:20190331T010000
END:DAYLIGHT
BEGIN:STANDARD
TZOFFSETFROM:+0200
TZOFFSETTO:+0100
TZNAME:CET
DTSTART:20191027T010000
END:STANDARD
BEGIN:DAYLIGHT
TZOFFSETFROM:+0100
TZOFFSETTO:+0200
TZNAME:CEST
DTSTART:20200329T010000
END:DAYLIGHT
BEGIN:STANDARD
TZOFFSETFROM:+0200
TZOFFSETTO:+0100
TZNAME:CET
DTSTART:20201025T010000
END:STANDARD
END:VTIMEZONE
BEGIN:VEVENT
DTSTART;TZID=Europe/Stockholm:20191006T103000
DTEND;TZID=Europe/Stockholm:20191006T103000
DTSTAMP:20260426T015731
CREATED:20180604T063708Z
LAST-MODIFIED:20180604T063708Z
UID:22197-1570357800-1570357800@www.arken.org
SUMMARY:Söndagsgudstjänst
DESCRIPTION:Söndagsgudstjänst i församlingen Arken. Linda Bergling predikar.
URL:https://www.arken.org/event/sondagsgudstjanst-kl-10-30-gunnar-bergling-2-2-2-2-2-2-2-2-2-2-2-3-2-2-2-2-2-2-2-2-2-3-4-3-2-2-4-2-2-3-2-3-3-2-2-2-2-2-2-2/
LOCATION:Kungsängen
CATEGORIES:Gudstjänst
ATTACH;FMTTYPE=image/jpeg:https://www.arken.org/wp-content/uploads/2018/06/gudstjanst-2-1.jpg
END:VEVENT
BEGIN:VEVENT
DTSTART;TZID=Europe/Stockholm:20191006T160000
DTEND;TZID=Europe/Stockholm:20191006T160000
DTSTAMP:20260426T015731
CREATED:20191003T075111Z
LAST-MODIFIED:20191003T075111Z
UID:22780-1570377600-1570377600@www.arken.org
SUMMARY:Helandemöte i Uppsala med Anita Björk
DESCRIPTION:
URL:https://www.arken.org/event/helandemote-i-uppsala-med-anita-bjork-3/
LOCATION:Kungsängen
END:VEVENT
END:VCALENDAR