BEGIN:VCALENDAR
VERSION:2.0
PRODID:-//Församlingen Arken - ECPv6.15.20//NONSGML v1.0//EN
CALSCALE:GREGORIAN
METHOD:PUBLISH
X-WR-CALNAME:Församlingen Arken
X-ORIGINAL-URL:https://www.arken.org
X-WR-CALDESC:Händelser för Församlingen Arken
REFRESH-INTERVAL;VALUE=DURATION:PT1H
X-Robots-Tag:noindex
X-PUBLISHED-TTL:PT1H
BEGIN:VTIMEZONE
TZID:Europe/Stockholm
BEGIN:DAYLIGHT
TZOFFSETFROM:+0100
TZOFFSETTO:+0200
TZNAME:CEST
DTSTART:20180325T010000
END:DAYLIGHT
BEGIN:STANDARD
TZOFFSETFROM:+0200
TZOFFSETTO:+0100
TZNAME:CET
DTSTART:20181028T010000
END:STANDARD
BEGIN:DAYLIGHT
TZOFFSETFROM:+0100
TZOFFSETTO:+0200
TZNAME:CEST
DTSTART:20190331T010000
END:DAYLIGHT
BEGIN:STANDARD
TZOFFSETFROM:+0200
TZOFFSETTO:+0100
TZNAME:CET
DTSTART:20191027T010000
END:STANDARD
BEGIN:DAYLIGHT
TZOFFSETFROM:+0100
TZOFFSETTO:+0200
TZNAME:CEST
DTSTART:20200329T010000
END:DAYLIGHT
BEGIN:STANDARD
TZOFFSETFROM:+0200
TZOFFSETTO:+0100
TZNAME:CET
DTSTART:20201025T010000
END:STANDARD
END:VTIMEZONE
BEGIN:VEVENT
DTSTART;VALUE=DATE:20191103
DTEND;VALUE=DATE:20191110
DTSTAMP:20260425T230103
CREATED:20181115T080055Z
LAST-MODIFIED:20181115T080055Z
UID:22593-1572739200-1573343999@www.arken.org
SUMMARY:Min bästa vecka
DESCRIPTION:Min bästa vecka 3-9 november på Sjöhamra Gård.\nSöker du efter vila eller hjälp att bli av med negativ stress? Kanske har du gått på högvarv länge\, behöver tid att stanna upp\, tänka efter\, prioritera om och sätta en ny kurs i livet. Ta chansen och anmäl dig till vår TEMAVECKA den 3 – 9 november. \n\n\n\nDet kan bli den bästa veckan i ditt liv!Du har möjlighet att anpassa innehållet i din vecka individuellt. \nHär är exempel på innehållet: korta inspirationspass om kost\, motion\, vila och sömn; bönesamlingar\, egna stilla stunder med Gud\, promenader i vacker natur\, lättgympa\, tips på nyttig\, lättlagad mat\, massage\, gemenskap framför brasan m m. \nDu får praktiska redskap att hantera stress i din vardag. Framför allt får du njuta av och ta emot Guds kärlek och kraft in i ditt liv. \nÖvernattning på Sjöhamra gård i eget rum\, tre måltider samt mellanmål ingår. \n\n\n\nPlats: Sjöhamra gård ca 9 kilometer norr om Åkersberga\, adress Bammarbodavägen 59. Busshållplatsen heter ”Sjöhamra”. Gratis parkeringsplats finns. Om du åker kommunalt gå gärna in på www.sl.se reseplaneraren för att hitta aktuell tidtabell för Roslagsbanan och bussarna. \n\nMer detaljerad information: hemsidan www.halsolovet.se\nHälsolövet facebook\nKontakt:   info@halsolovet.se. eller tel 08-588 840 00
URL:https://www.arken.org/event/halsoretreat-3-2/
LOCATION:Kungsängen
CATEGORIES:Event
ATTACH;FMTTYPE=image/jpeg:https://www.arken.org/wp-content/uploads/2018/11/HalsolovetsMinBastaVecka.jpg
END:VEVENT
BEGIN:VEVENT
DTSTART;TZID=Europe/Stockholm:20191108T200000
DTEND;TZID=Europe/Stockholm:20191108T200000
DTSTAMP:20260425T230103
CREATED:20190108T094346Z
LAST-MODIFIED:20190108T094346Z
UID:22689-1573243200-1573243200@www.arken.org
SUMMARY:Ungdomsmöte
DESCRIPTION:Ungdomsmöte i Club Identity.
URL:https://www.arken.org/event/ungdomsmote-2-2-2-2-2-3-2-2-2-2-2-2-2-3-2-2-2-3-3/
LOCATION:Kungsängen
END:VEVENT
END:VCALENDAR