BEGIN:VCALENDAR
VERSION:2.0
PRODID:-//Församlingen Arken - ECPv6.15.20//NONSGML v1.0//EN
CALSCALE:GREGORIAN
METHOD:PUBLISH
X-ORIGINAL-URL:https://www.arken.org
X-WR-CALDESC:Händelser för Församlingen Arken
REFRESH-INTERVAL;VALUE=DURATION:PT1H
X-Robots-Tag:noindex
X-PUBLISHED-TTL:PT1H
BEGIN:VTIMEZONE
TZID:Europe/Stockholm
BEGIN:DAYLIGHT
TZOFFSETFROM:+0100
TZOFFSETTO:+0200
TZNAME:CEST
DTSTART:20180325T010000
END:DAYLIGHT
BEGIN:STANDARD
TZOFFSETFROM:+0200
TZOFFSETTO:+0100
TZNAME:CET
DTSTART:20181028T010000
END:STANDARD
BEGIN:DAYLIGHT
TZOFFSETFROM:+0100
TZOFFSETTO:+0200
TZNAME:CEST
DTSTART:20190331T010000
END:DAYLIGHT
BEGIN:STANDARD
TZOFFSETFROM:+0200
TZOFFSETTO:+0100
TZNAME:CET
DTSTART:20191027T010000
END:STANDARD
BEGIN:DAYLIGHT
TZOFFSETFROM:+0100
TZOFFSETTO:+0200
TZNAME:CEST
DTSTART:20200329T010000
END:DAYLIGHT
BEGIN:STANDARD
TZOFFSETFROM:+0200
TZOFFSETTO:+0100
TZNAME:CET
DTSTART:20201025T010000
END:STANDARD
END:VTIMEZONE
BEGIN:VEVENT
DTSTART;VALUE=DATE:20191116
DTEND;VALUE=DATE:20191117
DTSTAMP:20260425T231349
CREATED:20190111T094840Z
LAST-MODIFIED:20190111T094840Z
UID:22727-1573862400-1573948799@www.arken.org
SUMMARY:Relationsdag- Visst är dina relationer det viktigaste du har?
DESCRIPTION:Visst är dina relationer det viktigaste du har?  \nDu hittar ditt hjärtas största glädjeämnen och dina största bekymmer i dina relationer till andra. Dessutom är din relation till dig själv avgörande\, du har ju med dig själv överallt! Det finns en enda relation som påverkar dig mer\, och det är relationen med Gud. Bibelns budskap talar om att älska Gud och sin nästa som sig själv… \nDet här är en dag för alla människor som försöker få livets relationer att fungera. Många upplever att den övergripande meningen med livet är att leva i skatter av sanning\, förlåtelse\, medlidande\, äkthet och barmhärtighet. Men hur gör man i praktiken? \n \nVarje relationsdag har ett fristående tema\, vilket gör att man kan komma oavsett om man varit med tidigare eller inte. \nTemat denna gång är\n– teamäktenskap mellan man och kvinna.\n– hur påverkas relationen när barn kommer in i bilden.\n– Karaktär\, Hur påverkar din karaktär på dina relationer? Vad kan du göra?\n– Talet\, det finns makt i de orden vi talar.  Hur talar vi till varandra? Hur talar vi om varandra?\n– Bindningar\, det finns både negativa och positiva band mellan människor. \nBåde gifta och ogifta är välkomna att delta! \nDatum: 16 november kl 10.00-18.00\nPlats: Församlingen Arken\nKostnad: 200 kr (inkl mat & fika). Betalning görs på plats\nAnmälan: till info@arken.org (Du kan komma oanmäld också\, men det underlättar vår planering om vi får din anmälan innan). \n   \nPastor Gunnar Bergling är initiativtagare till Relationsdagen och kommer att undervisa tillsammans med Lars och Ann-Marie Lindqvist. De är samtliga väldigt omtyckta relationstalare och har en lång erfarenhet av själavårdsarbete. *Ann-Marie och Lars har arbetat under många år med äktenskapsrådgivning och bearbetningssamtal på Arkens Helandecenter. De kan även erbjuda särskilda samtal för att stärka äktenskap eller ge rådgivning inför ett äktenskap. (Se Arkens Helandecenter) >> \n \n“Undervisning om vad relationer är\, hur man lever med och praktiserar dem här och nu har medfört en tro på en Gud och Fader som vill lära alla sina barn att vara grundad i förhållandet med Honom\, och i förhållandet till en maka\, vän och syskon. \n \n De gamla tankarna “det går inte”\, “det är omöjligt”\, “människor går inte att lita på”\, hade byggt starka fästen och tankebyggnader i mitt sinne. Förnyelse av sinnet kom genom nya tankar – och medförde en vår i sinnet! En resa började! \nJag är så tacksam för Guds ingripande i alla mina relationer! Gud har trofast verkat i en djup fader-barn relation till mina två vuxna barn och ett barnbarn\, på väg till frälsning och fullständig upprättelse! Gud är god\, trofast och Far. Jag kommer att vara med på nästa relationsdag också!” (Läs hela vittnesbördet här)  >>
URL:https://www.arken.org/event/relationsdag-4-2/
LOCATION:Kungsängen
CATEGORIES:Event,Första sidan,Relationsdag
ATTACH;FMTTYPE=image/jpeg:https://www.arken.org/wp-content/uploads/2019/01/relationsdag_februari-1.jpg
END:VEVENT
END:VCALENDAR