BEGIN:VCALENDAR
VERSION:2.0
PRODID:-//Församlingen Arken - ECPv6.15.20//NONSGML v1.0//EN
CALSCALE:GREGORIAN
METHOD:PUBLISH
X-WR-CALNAME:Församlingen Arken
X-ORIGINAL-URL:https://www.arken.org
X-WR-CALDESC:Händelser för Församlingen Arken
REFRESH-INTERVAL;VALUE=DURATION:PT1H
X-Robots-Tag:noindex
X-PUBLISHED-TTL:PT1H
BEGIN:VTIMEZONE
TZID:Europe/Stockholm
BEGIN:DAYLIGHT
TZOFFSETFROM:+0100
TZOFFSETTO:+0200
TZNAME:CEST
DTSTART:20180325T010000
END:DAYLIGHT
BEGIN:STANDARD
TZOFFSETFROM:+0200
TZOFFSETTO:+0100
TZNAME:CET
DTSTART:20181028T010000
END:STANDARD
BEGIN:DAYLIGHT
TZOFFSETFROM:+0100
TZOFFSETTO:+0200
TZNAME:CEST
DTSTART:20190331T010000
END:DAYLIGHT
BEGIN:STANDARD
TZOFFSETFROM:+0200
TZOFFSETTO:+0100
TZNAME:CET
DTSTART:20191027T010000
END:STANDARD
BEGIN:DAYLIGHT
TZOFFSETFROM:+0100
TZOFFSETTO:+0200
TZNAME:CEST
DTSTART:20200329T010000
END:DAYLIGHT
BEGIN:STANDARD
TZOFFSETFROM:+0200
TZOFFSETTO:+0100
TZNAME:CET
DTSTART:20201025T010000
END:STANDARD
END:VTIMEZONE
BEGIN:VEVENT
DTSTART;VALUE=DATE:20191120
DTEND;VALUE=DATE:20191124
DTSTAMP:20260425T230029
CREATED:20190516T071823Z
LAST-MODIFIED:20190516T071823Z
UID:22767-1574208000-1574553599@www.arken.org
SUMMARY:Förebedjarkurs  20-24 november
DESCRIPTION:Längtar du efter att hjälpa dem som är sårade i själen? Vill du starta helandearbete på din hemort?\n\nFörebedjarkursen är riktad till dig som önskar få en fördjupad undervisning om hur man kan be själens helande för en annan människa på Ordets grund och med den helige Andens hjälp. \nDu får lära dig en enkel bönemodell som du sedan kan använda när du betjänar andra. Bönemodellen innehåller de viktiga delarna för själens helande: förlåtelse\, befrielse\, helande och upprättelse. \nDu får också lära dig hur man gensvarar och bli använd i Andens nådegåvor som förebedjare. \nDu får ta del av handledningsmaterial som ger en viktig struktur och ordning för förbönstjänsten. \nKursen ger dig verktyg att starta ett enkelt mini-helandecenter med förbönssamtal och förbönstelefon. Din hemförsamling kanske längtar efter att få igång helandetjänsten och vill kunna erbjuda människor på din hemort förbönshjälp. \nTid:\nKursen börjar onsdag kväll 20 november kl 16.00 med inskrivning. Kursen avslutas söndag 24 november . \nPå onsdag kväll och torsdag och fredag förmiddag är det teoriundervisning som sedan sätts i praktik under fredag kväll till och med söndag eftermiddag på en av Arkens viktigaste konferenser Jesus Helar och Upprättar. \nDu som deltagare är med i förbönstjänsten tillsammans med Arkens egna förebedjare och betjänar människor som besöker konferensen. Din praktik sker under tystnadsplikt och med handledn­ing av ansvariga personer för helandetjänsten. Du erhåller diplom efter godkänd utbildning. \nProgram\n\nOnsdag 20/11\nkl. 16.00 – Inskrivning och fika följt av presentation och paus\nkl. 19.00 – Undervisning \nTorsdag 21/11\nkl. 8.30-12.00 – Lovsång och information följt av två undervisningspass inkl. rast\nkl. 13.30-15.00 – Undervisning (kort paus kl 15.00)\nkl. 15.30-17.00 – Undervisning\nkl. 18.00-20.00 – Undervisning\n\nFredag 22/11\nkl. 8.30-12.00 – Lovsång och information följt av två undervisningspass inkl. rast\nkl. 13.00-15.00 – Förbön för deltagarna\nkl. 17.30 – Information och smörjelsestund inför konferensen \nJesus Helar & Upprättar konferens: deltagarna praktiserar under flödesbön\, samtal och möten\n\nFredag 22/11\n– 19.00 Kvällsmöte med Linda Bergling \nLördag 23/11\n – 10.00 Flödesbön/Förbönssamtal\n14.00 Möte med Gunnar Bergling\, 18.00 Kvällsmöte med Linda Bergling\n\nSöndag 24/11\n – 10.30 Gudstjänst med Gunnar Bergling\, diplomutdelning\n15.00 Eftermiddagsmöte med Linda Bergling\, avslutning \nLärare: Linda Bergling och Anita Björk undervisar.\nKostnad: Du betalar endast för kursmaterialet. Ingen deltagaravgift. Det kommer att tas upp en frivillig kollekt under kursen.
URL:https://www.arken.org/event/uppfylld-av-den-helige-ande-2-2/
LOCATION:Kungsängen
CATEGORIES:Event,Första sidan
ATTACH;FMTTYPE=image/jpeg:https://www.arken.org/wp-content/uploads/2019/05/Sjalavardkurs.jpg
END:VEVENT
END:VCALENDAR