BEGIN:VCALENDAR
VERSION:2.0
PRODID:-//Församlingen Arken - ECPv6.15.20//NONSGML v1.0//EN
CALSCALE:GREGORIAN
METHOD:PUBLISH
X-ORIGINAL-URL:https://www.arken.org
X-WR-CALDESC:Händelser för Församlingen Arken
REFRESH-INTERVAL;VALUE=DURATION:PT1H
X-Robots-Tag:noindex
X-PUBLISHED-TTL:PT1H
BEGIN:VTIMEZONE
TZID:Europe/Stockholm
BEGIN:DAYLIGHT
TZOFFSETFROM:+0100
TZOFFSETTO:+0200
TZNAME:CEST
DTSTART:20180325T010000
END:DAYLIGHT
BEGIN:STANDARD
TZOFFSETFROM:+0200
TZOFFSETTO:+0100
TZNAME:CET
DTSTART:20181028T010000
END:STANDARD
BEGIN:DAYLIGHT
TZOFFSETFROM:+0100
TZOFFSETTO:+0200
TZNAME:CEST
DTSTART:20190331T010000
END:DAYLIGHT
BEGIN:STANDARD
TZOFFSETFROM:+0200
TZOFFSETTO:+0100
TZNAME:CET
DTSTART:20191027T010000
END:STANDARD
BEGIN:DAYLIGHT
TZOFFSETFROM:+0100
TZOFFSETTO:+0200
TZNAME:CEST
DTSTART:20200329T010000
END:DAYLIGHT
BEGIN:STANDARD
TZOFFSETFROM:+0200
TZOFFSETTO:+0100
TZNAME:CET
DTSTART:20201025T010000
END:STANDARD
END:VTIMEZONE
BEGIN:VEVENT
DTSTART;TZID=Europe/Stockholm:20191126T140000
DTEND;TZID=Europe/Stockholm:20191126T140000
DTSTAMP:20260425T214726
CREATED:20180619T100320Z
LAST-MODIFIED:20180619T100320Z
UID:22365-1574776800-1574776800@www.arken.org
SUMMARY:Helandemöte
DESCRIPTION:Tisdagar kl 14.00. \nPlats: Stora salen. \nHit kan du gärna bjuda med de som är sjuka\, dag-lediga och dem som har har behov av personlig betjäning.  \nMötet innehåller kort undervisning om helande utifrån Bibeln\, flödesbön samt möjlighet till kort personlig förbön. \nIngen anmälan behövs. Det är bara komma.
URL:https://www.arken.org/event/helandeundervisning-3-2-2-2-2-2-3-2-2-2-2-2-2-3-3-7-5-3-2-2-2-3-2-2-3-2-4/
LOCATION:Kungsängen
CATEGORIES:Helandemöte
ATTACH;FMTTYPE=image/jpeg:https://www.arken.org/wp-content/uploads/2018/08/helandeundervisning.jpg
END:VEVENT
END:VCALENDAR