BEGIN:VCALENDAR
VERSION:2.0
PRODID:-//Församlingen Arken - ECPv6.15.20//NONSGML v1.0//EN
CALSCALE:GREGORIAN
METHOD:PUBLISH
X-ORIGINAL-URL:https://www.arken.org
X-WR-CALDESC:Händelser för Församlingen Arken
REFRESH-INTERVAL;VALUE=DURATION:PT1H
X-Robots-Tag:noindex
X-PUBLISHED-TTL:PT1H
BEGIN:VTIMEZONE
TZID:Europe/Stockholm
BEGIN:DAYLIGHT
TZOFFSETFROM:+0100
TZOFFSETTO:+0200
TZNAME:CEST
DTSTART:20180325T010000
END:DAYLIGHT
BEGIN:STANDARD
TZOFFSETFROM:+0200
TZOFFSETTO:+0100
TZNAME:CET
DTSTART:20181028T010000
END:STANDARD
BEGIN:DAYLIGHT
TZOFFSETFROM:+0100
TZOFFSETTO:+0200
TZNAME:CEST
DTSTART:20190331T010000
END:DAYLIGHT
BEGIN:STANDARD
TZOFFSETFROM:+0200
TZOFFSETTO:+0100
TZNAME:CET
DTSTART:20191027T010000
END:STANDARD
BEGIN:DAYLIGHT
TZOFFSETFROM:+0100
TZOFFSETTO:+0200
TZNAME:CEST
DTSTART:20200329T010000
END:DAYLIGHT
BEGIN:STANDARD
TZOFFSETFROM:+0200
TZOFFSETTO:+0100
TZNAME:CET
DTSTART:20201025T010000
END:STANDARD
END:VTIMEZONE
BEGIN:VEVENT
DTSTART;VALUE=DATE:20191207
DTEND;VALUE=DATE:20191208
DTSTAMP:20260425T214537
CREATED:20181005T070621Z
LAST-MODIFIED:20181005T070621Z
UID:22570-1575676800-1575763199@www.arken.org
SUMMARY:Julshow 7 december kl 18.00
DESCRIPTION:Julshow 7 december kl 18.00\nDrama  – Musik & Sång – Äventyr\nÄntligen närmar sig premiären för Arkens teatergrupp. Gruppen startades i början av hösten. Hela hösten har det pågått intensiva förberedelser av denna dramaföreställning. \nDet kommer att bli ett musikaliskt drama om första julens händelser baserat på det tidlösa budskapet i välkända bibelberättelser med nya insynsvinklar\, humor och allvar. \nPubliken får också njuta av både gamla och nyproducerade musikaliska inslag kryddat med dans av både barn och vuxna. \nMedverkade: Arkens dramagrupp med musiker och dansare:\nEtt 20-tal personer mellan åldrar 6-69 år har jobbat intensivt under hela hösten med repetitioner och föreberedelser. I gruppen finns professionella musiker och folk med utbildning inom drama och teater\, samt många kreativa och ivriga amatörer. De alla ser fram emot att få förmedla ett budskap om meningen med livet och ett förvandlat liv i Jesu efterföljelse till både frälsta och de som inte ännu känner honom. \nJulshowen är ett utmärkt tillfälle att ta med sig dem som inte är så vana kyrkobesökare. \nFri entré\, en frivillig gåva till Fadderbarn (genom Arkens mission) tas upp under kvällen. Julfika finns att köpa i cefét efter showen. \nVarmt välkommen!    Genom länken här nedan kan du se ett smakprov: \nhttps://www.youtube.com/watch?v=gjho_MClAlw \nFacebook: https://sv-se.facebook.com/events/528852887952092/
URL:https://www.arken.org/event/akustisk-lovsangskvall-3/
LOCATION:Kungsängen
CATEGORIES:Event,Första sidan,Förstasidan
ATTACH;FMTTYPE=image/jpeg:https://www.arken.org/wp-content/uploads/2018/10/Julshow.jpg
END:VEVENT
END:VCALENDAR