BEGIN:VCALENDAR
VERSION:2.0
PRODID:-//Församlingen Arken - ECPv6.15.20//NONSGML v1.0//EN
CALSCALE:GREGORIAN
METHOD:PUBLISH
X-ORIGINAL-URL:https://www.arken.org
X-WR-CALDESC:Händelser för Församlingen Arken
REFRESH-INTERVAL;VALUE=DURATION:PT1H
X-Robots-Tag:noindex
X-PUBLISHED-TTL:PT1H
BEGIN:VTIMEZONE
TZID:Europe/Stockholm
BEGIN:DAYLIGHT
TZOFFSETFROM:+0100
TZOFFSETTO:+0200
TZNAME:CEST
DTSTART:20180325T010000
END:DAYLIGHT
BEGIN:STANDARD
TZOFFSETFROM:+0200
TZOFFSETTO:+0100
TZNAME:CET
DTSTART:20181028T010000
END:STANDARD
BEGIN:DAYLIGHT
TZOFFSETFROM:+0100
TZOFFSETTO:+0200
TZNAME:CEST
DTSTART:20190331T010000
END:DAYLIGHT
BEGIN:STANDARD
TZOFFSETFROM:+0200
TZOFFSETTO:+0100
TZNAME:CET
DTSTART:20191027T010000
END:STANDARD
BEGIN:DAYLIGHT
TZOFFSETFROM:+0100
TZOFFSETTO:+0200
TZNAME:CEST
DTSTART:20200329T010000
END:DAYLIGHT
BEGIN:STANDARD
TZOFFSETFROM:+0200
TZOFFSETTO:+0100
TZNAME:CET
DTSTART:20201025T010000
END:STANDARD
END:VTIMEZONE
BEGIN:VEVENT
DTSTART;TZID=Europe/Stockholm:20191215T103000
DTEND;TZID=Europe/Stockholm:20191215T103000
DTSTAMP:20260425T214738
CREATED:20180604T063708Z
LAST-MODIFIED:20180604T063708Z
UID:22206-1576405800-1576405800@www.arken.org
SUMMARY:Söndagsgudstjänst
DESCRIPTION:Söndagsgudstjänst i församlingen Arken. Gunnar Bergling predikar.
URL:https://www.arken.org/event/sondagsgudstjanst-kl-10-30-gunnar-bergling-2-2-2-2-2-2-2-2-2-2-2-3-2-2-2-2-2-2-2-2-2-3-4-3-2-2-4-2-2-3-2-3-3-2-2-2-2-2-2-2-2-2-3-2-2/
LOCATION:Kungsängen
CATEGORIES:Gudstjänst
ATTACH;FMTTYPE=image/jpeg:https://www.arken.org/wp-content/uploads/2018/06/gudstjanst-2-1.jpg
END:VEVENT
BEGIN:VEVENT
DTSTART;TZID=Europe/Stockholm:20191215T170000
DTEND;TZID=Europe/Stockholm:20191215T170000
DTSTAMP:20260425T214738
CREATED:20190514T115314Z
LAST-MODIFIED:20190514T115314Z
UID:22770-1576429200-1576429200@www.arken.org
SUMMARY:Helandemöte i Uppsala
DESCRIPTION:Helande-möte i Uppsala 15 december.  \nAnita Björk predikar och betjänar tillsammans med ett team från Arken. \nPlats: Skomakargatan 2\, Uppsala \nFika kl 16.00. Mötet börjar kl 17.00.
URL:https://www.arken.org/event/6131-4/
LOCATION:Kungsängen
CATEGORIES:Event,Första sidan,Förstasidan,Helandemöte
ATTACH;FMTTYPE=image/jpeg:https://www.arken.org/wp-content/uploads/2019/05/Anita-i-uppsala.jpg
END:VEVENT
BEGIN:VEVENT
DTSTART;TZID=Europe/Stockholm:20191215T170000
DTEND;TZID=Europe/Stockholm:20191215T170000
DTSTAMP:20260425T214738
CREATED:20190514T115314Z
LAST-MODIFIED:20190514T115314Z
UID:22773-1576429200-1576429200@www.arken.org
SUMMARY:Helandemöte i Uppsala
DESCRIPTION:Helande-möte i Uppsala 8 mars.  \nAnita Björk predikar och betjänar tillsammans med ett team från Arken. \nPlats: Skomakargatan 2\, Uppsala \nFika kl 16.00. Mötet börjar kl 17.00.
URL:https://www.arken.org/event/6131-4-2/
LOCATION:Kungsängen
CATEGORIES:Event,Första sidan,Förstasidan,Helandemöte
ATTACH;FMTTYPE=image/jpeg:https://www.arken.org/wp-content/uploads/2019/05/Anita-i-uppsala.jpg
END:VEVENT
END:VCALENDAR