BEGIN:VCALENDAR
VERSION:2.0
PRODID:-//Församlingen Arken - ECPv6.15.20//NONSGML v1.0//EN
CALSCALE:GREGORIAN
METHOD:PUBLISH
X-WR-CALNAME:Församlingen Arken
X-ORIGINAL-URL:https://www.arken.org
X-WR-CALDESC:Händelser för Församlingen Arken
REFRESH-INTERVAL;VALUE=DURATION:PT1H
X-Robots-Tag:noindex
X-PUBLISHED-TTL:PT1H
BEGIN:VTIMEZONE
TZID:Europe/Stockholm
BEGIN:DAYLIGHT
TZOFFSETFROM:+0100
TZOFFSETTO:+0200
TZNAME:CEST
DTSTART:20180325T010000
END:DAYLIGHT
BEGIN:STANDARD
TZOFFSETFROM:+0200
TZOFFSETTO:+0100
TZNAME:CET
DTSTART:20181028T010000
END:STANDARD
BEGIN:DAYLIGHT
TZOFFSETFROM:+0100
TZOFFSETTO:+0200
TZNAME:CEST
DTSTART:20190331T010000
END:DAYLIGHT
BEGIN:STANDARD
TZOFFSETFROM:+0200
TZOFFSETTO:+0100
TZNAME:CET
DTSTART:20191027T010000
END:STANDARD
BEGIN:DAYLIGHT
TZOFFSETFROM:+0100
TZOFFSETTO:+0200
TZNAME:CEST
DTSTART:20200329T010000
END:DAYLIGHT
BEGIN:STANDARD
TZOFFSETFROM:+0200
TZOFFSETTO:+0100
TZNAME:CET
DTSTART:20201025T010000
END:STANDARD
BEGIN:DAYLIGHT
TZOFFSETFROM:+0100
TZOFFSETTO:+0200
TZNAME:CEST
DTSTART:20210328T010000
END:DAYLIGHT
BEGIN:STANDARD
TZOFFSETFROM:+0200
TZOFFSETTO:+0100
TZNAME:CET
DTSTART:20211031T010000
END:STANDARD
BEGIN:DAYLIGHT
TZOFFSETFROM:+0100
TZOFFSETTO:+0200
TZNAME:CEST
DTSTART:20220327T010000
END:DAYLIGHT
BEGIN:STANDARD
TZOFFSETFROM:+0200
TZOFFSETTO:+0100
TZNAME:CET
DTSTART:20221030T010000
END:STANDARD
END:VTIMEZONE
BEGIN:VEVENT
DTSTART;VALUE=DATE:20191223
DTEND;VALUE=DATE:20210104
DTSTAMP:20260426T034730
CREATED:20181112T105357Z
LAST-MODIFIED:20220124T144643Z
UID:22599-1577059200-1609718399@www.arken.org
SUMMARY:Julen och Nyår 2020
DESCRIPTION:Se direktsändningarna:\nSe direktsändningarna genom att gå in här https://www.arken.org/live-2/  \neller gå in på TV arken Youtube. Du kan gå in här https://www.youtube.com/channel/UCE8vnk9S-nfEGp5rwvZA6sQ \nLive-sändningen kommer också upp på Församlingen Arkens sida på Facebook https://www.facebook.com/F%C3%B6rsamlingen-Arken-973436349353059/
URL:https://www.arken.org/event/julkrubba-pa-julafton-2-2/
LOCATION:Kungsängen
CATEGORIES:Event,Möte
ATTACH;FMTTYPE=image/jpeg:https://www.arken.org/wp-content/uploads/2018/11/AnnonsExpressen2022jan.jpg
END:VEVENT
BEGIN:VEVENT
DTSTART;VALUE=DATE:20200202
DTEND;VALUE=DATE:20200203
DTSTAMP:20260426T034730
CREATED:20190514T115314Z
LAST-MODIFIED:20190514T115314Z
UID:22772-1580601600-1580687999@www.arken.org
SUMMARY:Helandemöte i Uppsala kl 17.00
DESCRIPTION:Linda Bergling med team predikar och betjänar på mötet den 2 februari 17.00. Det finns fika att köpa från kl 16.00.\nAdress: Salabacke\, Skomakargatan 2\,  Uppsala\n\nVi vill inbjuda till dig härlig gemenskap\, lovsång och ett starkt möte med Gud. Varmt välkommen! \n 
URL:https://www.arken.org/event/6131-6/
LOCATION:Kungsängen
CATEGORIES:Första sidan,Förstasidan,Helandemöte
ATTACH;FMTTYPE=image/jpeg:https://www.arken.org/wp-content/uploads/2019/05/uppsala-team-helande.jpg
END:VEVENT
BEGIN:VEVENT
DTSTART;TZID=Europe/Stockholm:20200202T103000
DTEND;TZID=Europe/Stockholm:20200202T103000
DTSTAMP:20260426T034730
CREATED:20180604T063708Z
LAST-MODIFIED:20180604T063708Z
UID:22213-1580639400-1580639400@www.arken.org
SUMMARY:Söndagsgudstjänst
DESCRIPTION:Söndagsgudstjänst i församlingen Arken. Gunnar Bergling predikar.
URL:https://www.arken.org/event/sondagsgudstjanst-kl-10-30-gunnar-bergling-2-2-2-2-2-2-2-2-2-2-2-3-2-2-2-2-2-2-2-2-2-3-4-3-2-2-4-2-2-3-2-3-3-2-2-2-2-3-2-2-3-3-2-2-3-3/
LOCATION:Kungsängen
CATEGORIES:Gudstjänst
ATTACH;FMTTYPE=image/jpeg:https://www.arken.org/wp-content/uploads/2018/06/gudstjanst-2-1.jpg
END:VEVENT
END:VCALENDAR