BEGIN:VCALENDAR
VERSION:2.0
PRODID:-//Församlingen Arken - ECPv6.15.20//NONSGML v1.0//EN
CALSCALE:GREGORIAN
METHOD:PUBLISH
X-WR-CALNAME:Församlingen Arken
X-ORIGINAL-URL:https://www.arken.org
X-WR-CALDESC:Händelser för Församlingen Arken
REFRESH-INTERVAL;VALUE=DURATION:PT1H
X-Robots-Tag:noindex
X-PUBLISHED-TTL:PT1H
BEGIN:VTIMEZONE
TZID:Europe/Stockholm
BEGIN:DAYLIGHT
TZOFFSETFROM:+0100
TZOFFSETTO:+0200
TZNAME:CEST
DTSTART:20250330T010000
END:DAYLIGHT
BEGIN:STANDARD
TZOFFSETFROM:+0200
TZOFFSETTO:+0100
TZNAME:CET
DTSTART:20251026T010000
END:STANDARD
BEGIN:DAYLIGHT
TZOFFSETFROM:+0100
TZOFFSETTO:+0200
TZNAME:CEST
DTSTART:20260329T010000
END:DAYLIGHT
BEGIN:STANDARD
TZOFFSETFROM:+0200
TZOFFSETTO:+0100
TZNAME:CET
DTSTART:20261025T010000
END:STANDARD
BEGIN:DAYLIGHT
TZOFFSETFROM:+0100
TZOFFSETTO:+0200
TZNAME:CEST
DTSTART:20270328T010000
END:DAYLIGHT
BEGIN:STANDARD
TZOFFSETFROM:+0200
TZOFFSETTO:+0100
TZNAME:CET
DTSTART:20271031T010000
END:STANDARD
END:VTIMEZONE
BEGIN:VEVENT
DTSTART;TZID=Europe/Stockholm:20260426T103000
DTEND;TZID=Europe/Stockholm:20260426T130000
DTSTAMP:20260426T015554
CREATED:20201214T112013Z
LAST-MODIFIED:20260401T115843Z
UID:22890-1777199400-1777208400@www.arken.org
SUMMARY:Söndagsgudstjänst kl 10.30\, Linda Bergling
DESCRIPTION:Direktsänd gudstjänst på söndag kl 10.30. \nSe livesändning på länken https://www.arken.org/live-2/\nEller på TV Arken Youtube https://www.youtube.com/channel/UCE8vnk9S-nfEGp5rwvZA6sQ \nDu kan ge din gåva via Swish-nummer: 123 056 90 46 eller Bankgiro: 549-7748
URL:https://www.arken.org/event/sondagsgudstjanst-8/
LOCATION:Kungsängen
ATTACH;FMTTYPE=image/jpeg:https://www.arken.org/wp-content/uploads/2020/12/eventbilder_talare_mall.jpg
END:VEVENT
END:VCALENDAR