BEGIN:VCALENDAR
VERSION:2.0
PRODID:-//Församlingen Arken - ECPv6.15.20//NONSGML v1.0//EN
CALSCALE:GREGORIAN
METHOD:PUBLISH
X-ORIGINAL-URL:https://www.arken.org
X-WR-CALDESC:Händelser för Församlingen Arken
REFRESH-INTERVAL;VALUE=DURATION:PT1H
X-Robots-Tag:noindex
X-PUBLISHED-TTL:PT1H
BEGIN:VTIMEZONE
TZID:Europe/Stockholm
BEGIN:DAYLIGHT
TZOFFSETFROM:+0100
TZOFFSETTO:+0200
TZNAME:CEST
DTSTART:20180325T010000
END:DAYLIGHT
BEGIN:STANDARD
TZOFFSETFROM:+0200
TZOFFSETTO:+0100
TZNAME:CET
DTSTART:20181028T010000
END:STANDARD
BEGIN:DAYLIGHT
TZOFFSETFROM:+0100
TZOFFSETTO:+0200
TZNAME:CEST
DTSTART:20190331T010000
END:DAYLIGHT
BEGIN:STANDARD
TZOFFSETFROM:+0200
TZOFFSETTO:+0100
TZNAME:CET
DTSTART:20191027T010000
END:STANDARD
BEGIN:DAYLIGHT
TZOFFSETFROM:+0100
TZOFFSETTO:+0200
TZNAME:CEST
DTSTART:20200329T010000
END:DAYLIGHT
BEGIN:STANDARD
TZOFFSETFROM:+0200
TZOFFSETTO:+0100
TZNAME:CET
DTSTART:20201025T010000
END:STANDARD
BEGIN:DAYLIGHT
TZOFFSETFROM:+0100
TZOFFSETTO:+0200
TZNAME:CEST
DTSTART:20210328T010000
END:DAYLIGHT
BEGIN:STANDARD
TZOFFSETFROM:+0200
TZOFFSETTO:+0100
TZNAME:CET
DTSTART:20211031T010000
END:STANDARD
BEGIN:DAYLIGHT
TZOFFSETFROM:+0100
TZOFFSETTO:+0200
TZNAME:CEST
DTSTART:20220327T010000
END:DAYLIGHT
BEGIN:STANDARD
TZOFFSETFROM:+0200
TZOFFSETTO:+0100
TZNAME:CET
DTSTART:20221030T010000
END:STANDARD
END:VTIMEZONE
BEGIN:VEVENT
DTSTART;VALUE=DATE:20191223
DTEND;VALUE=DATE:20210104
DTSTAMP:20260426T061039
CREATED:20181112T105357Z
LAST-MODIFIED:20220124T144643Z
UID:22599-1577059200-1609718399@www.arken.org
SUMMARY:Julen och Nyår 2020
DESCRIPTION:Se direktsändningarna:\nSe direktsändningarna genom att gå in här https://www.arken.org/live-2/  \neller gå in på TV arken Youtube. Du kan gå in här https://www.youtube.com/channel/UCE8vnk9S-nfEGp5rwvZA6sQ \nLive-sändningen kommer också upp på Församlingen Arkens sida på Facebook https://www.facebook.com/F%C3%B6rsamlingen-Arken-973436349353059/
URL:https://www.arken.org/event/julkrubba-pa-julafton-2-2/
LOCATION:Kungsängen
CATEGORIES:Event,Möte
ATTACH;FMTTYPE=image/jpeg:https://www.arken.org/wp-content/uploads/2018/11/AnnonsExpressen2022jan.jpg
END:VEVENT
BEGIN:VEVENT
DTSTART;TZID=Europe/Stockholm:20200403T200000
DTEND;TZID=Europe/Stockholm:20200403T200000
DTSTAMP:20260426T061039
CREATED:20190108T094346Z
LAST-MODIFIED:20190108T094346Z
UID:22704-1585944000-1585944000@www.arken.org
SUMMARY:Ungdomsmöte
DESCRIPTION:Ungdomsmöte i Club Identity.
URL:https://www.arken.org/event/ungdomsmote-2-2-2-2-2-3-2-2-2-2-2-2-2-3-2-2-2-3-2-2-2-2-2-2-2-2-2-2-2-2/
LOCATION:Kungsängen
END:VEVENT
BEGIN:VEVENT
DTSTART;TZID=Europe/Stockholm:20200405T103000
DTEND;TZID=Europe/Stockholm:20200405T103000
DTSTAMP:20260426T061039
CREATED:20180604T063708Z
LAST-MODIFIED:20180604T063708Z
UID:22221-1586082600-1586082600@www.arken.org
SUMMARY:Söndagsgudstjänst
DESCRIPTION:Söndagsgudstjänst i församlingen Arken. Linda Bergling predikar.
URL:https://www.arken.org/event/sondagsgudstjanst-kl-10-30-gunnar-bergling-2-2-2-2-2-2-2-2-2-2-2-3-2-2-2-2-2-2-2-2-2-3-4-3-2-2-4-2-2-3-2-3-3-2-2-2-2-3-2-2-3-3-2-2-3-2-2-3-2-3/
LOCATION:Kungsängen
CATEGORIES:Gudstjänst
ATTACH;FMTTYPE=image/jpeg:https://www.arken.org/wp-content/uploads/2018/06/gudstjanst-2-1.jpg
END:VEVENT
BEGIN:VEVENT
DTSTART;TZID=Europe/Stockholm:20200408T190000
DTEND;TZID=Europe/Stockholm:20200408T190000
DTSTAMP:20260426T061039
CREATED:20180917T085847Z
LAST-MODIFIED:20180917T085847Z
UID:22533-1586372400-1586372400@www.arken.org
SUMMARY:Kvällsmöte
DESCRIPTION:Välkommen på kvällsmöte kl 19.00. Joshua Johansson predikar.
URL:https://www.arken.org/event/kvallsmote-5-2-2-2-2-4-2-2-2-3-2-2-3-3-2-2-3-2-3-2-2-2-2-2-3-3-3-3-2-2-2-2-2/
LOCATION:Kungsängen
ATTACH;FMTTYPE=image/jpeg:https://www.arken.org/wp-content/uploads/2018/06/gudstjanst-1-1.jpg
END:VEVENT
BEGIN:VEVENT
DTSTART;TZID=Europe/Stockholm:20200410T103000
DTEND;TZID=Europe/Stockholm:20200410T130000
DTSTAMP:20260426T061039
CREATED:20190208T113000Z
LAST-MODIFIED:20190208T113000Z
UID:22729-1586514600-1586523600@www.arken.org
SUMMARY:Långfredagens gudstjänst LIVE
DESCRIPTION:Gunnar Bergling predikar. Gudstjänsten sänds live. Gå in via https://www.arken.org/live-2/ \nhttps://www.arken.org/live-2/  \nEller på TV Arken Youtube \nhttps://www.youtube.com/channel/UCE8vnk9S-nfEGp5rwvZA6sQ
URL:https://www.arken.org/event/langfredagens-gudstjanst-2/
LOCATION:Kungsängen
CATEGORIES:Första sidan,Gudstjänst
ATTACH;FMTTYPE=image/jpeg:https://www.arken.org/wp-content/uploads/2019/04/pasken-pa-arken.jpg
END:VEVENT
BEGIN:VEVENT
DTSTART;TZID=Europe/Stockholm:20200412T103000
DTEND;TZID=Europe/Stockholm:20200412T103000
DTSTAMP:20260426T061039
CREATED:20180604T063708Z
LAST-MODIFIED:20180604T063708Z
UID:22223-1586687400-1586687400@www.arken.org
SUMMARY:Påskdagsgudstjänst LIVE
DESCRIPTION:Linda Bergling predikar. Gudstjänsten sänds live. Gå in via https://www.arken.org/live-2/ \nhttps://www.arken.org/live-2/  \nEller på TV Arken Youtube \nhttps://www.youtube.com/channel/UCE8vnk9S-nfEGp5rwvZA6sQ
URL:https://www.arken.org/event/sondagsgudstjanst-kl-10-30-gunnar-bergling-2-2-2-2-2-2-2-2-2-2-2-3-2-2-2-2-2-2-2-2-2-3-4-3-2-2-4-2-3-2/
LOCATION:Kungsängen
CATEGORIES:Första sidan,Gudstjänst
ATTACH;FMTTYPE=image/jpeg:https://www.arken.org/wp-content/uploads/2019/04/pasken-pa-arken.jpg
END:VEVENT
BEGIN:VEVENT
DTSTART;TZID=Europe/Stockholm:20200413T103000
DTEND;TZID=Europe/Stockholm:20200413T103000
DTSTAMP:20260426T061039
CREATED:20190214T111114Z
LAST-MODIFIED:20190214T111114Z
UID:22730-1586773800-1586773800@www.arken.org
SUMMARY:Gudstjänst på annandag påsk LIVE
DESCRIPTION:Lars Lindqvist predikar.  Gudstjänsten sänds live. Gå in via https://www.arken.org/live-2/ \nhttps://www.arken.org/live-2/  \nEller på TV Arken Youtube \nhttps://www.youtube.com/channel/UCE8vnk9S-nfEGp5rwvZA6sQ
URL:https://www.arken.org/event/gudstjanst-pa-annadag-pask-2-2/
LOCATION:Kungsängen
CATEGORIES:Första sidan,Förstasidan,Gudstjänst
ATTACH;FMTTYPE=image/jpeg:https://www.arken.org/wp-content/uploads/2019/04/pasken-pa-arken.jpg
END:VEVENT
BEGIN:VEVENT
DTSTART;TZID=Europe/Stockholm:20200414T140000
DTEND;TZID=Europe/Stockholm:20200414T140000
DTSTAMP:20260426T061039
CREATED:20180619T100320Z
LAST-MODIFIED:20180619T100320Z
UID:22374-1586872800-1586872800@www.arken.org
SUMMARY:Helandemöte
DESCRIPTION:Tisdagar kl 14.00. \nPlats: Barnkyrkans lokal i församlingen Arken.
URL:https://www.arken.org/event/helandeundervisning-3-2-2-2-2-2-3-2-2-2-2-2-2-3-3-7-5-3-2-2-2-3-2-2-3-2-5-2-2/
LOCATION:Kungsängen
CATEGORIES:Helandemöte
ATTACH;FMTTYPE=image/jpeg:https://www.arken.org/wp-content/uploads/2018/08/helandeundervisning.jpg
END:VEVENT
BEGIN:VEVENT
DTSTART;TZID=Europe/Stockholm:20200417T200000
DTEND;TZID=Europe/Stockholm:20200417T200000
DTSTAMP:20260426T061039
CREATED:20190108T094346Z
LAST-MODIFIED:20190108T094346Z
UID:22701-1587153600-1587153600@www.arken.org
SUMMARY:Ungdomsmöte
DESCRIPTION:Ungdomsmöte i Club Identity.
URL:https://www.arken.org/event/ungdomsmote-2-2-2-2-2-3-2-2-2-2-2-2-2-3-2-2-2-3-2-2-2-2-2-2-2-2-2/
LOCATION:Kungsängen
END:VEVENT
BEGIN:VEVENT
DTSTART;TZID=Europe/Stockholm:20200419T103000
DTEND;TZID=Europe/Stockholm:20200419T123000
DTSTAMP:20260426T061039
CREATED:20180604T063708Z
LAST-MODIFIED:20180604T063708Z
UID:22222-1587292200-1587299400@www.arken.org
SUMMARY:Söndagsgudstjänst
DESCRIPTION:Söndagsgudstjänst i församlingen Arken LIVE. Gunnar Bergling predikar.\nSe via nätet genom att trycka på följande länk: https://www.arken.org/live-2/       Eller gå in via följande länk: https://www.youtube.com/channel/UCE8vnk9S-nfEGp5rwvZA6sQ
URL:https://www.arken.org/event/sondagsgudstjanst-kl-10-30-gunnar-bergling-2-2-2-2-2-2-2-2-2-2-2-3-2-2-2-2-2-2-2-2-2-3-4-3-2-2-4-2-2-3-2-3-3-2-2-2-2-3-2-2-3-3-2-2-3-2-2-3-2-3-2/
LOCATION:Kungsängen
CATEGORIES:Första sidan,Förstasidan,Gudstjänst
ATTACH;FMTTYPE=image/jpeg:https://www.arken.org/wp-content/uploads/2018/09/gunnar1.jpg
END:VEVENT
BEGIN:VEVENT
DTSTART;VALUE=DATE:20200420
DTEND;VALUE=DATE:20200425
DTSTAMP:20260426T061039
CREATED:20180604T063708Z
LAST-MODIFIED:20180604T063708Z
UID:22231-1587340800-1587772799@www.arken.org
SUMMARY:Vi ber för dig - LIVE bön direkt från studion måndag-fredag kl 13-14.
DESCRIPTION:Pastor Linda Bergling tillsammans med flera andra ber för dig måndag – fredag kl 13-14. Bönens sänds direkt från Arkens TV-studio. Du kan sända in ditt böneämne till info@arken.org.\nDu kan se LIVE via länken https://www.arken.org/live/\nDu kan också se LIVE  via TV Arken Youtube genom att trycka på följande länk https://www.youtube.com/channel/UCE8vnk9S-nfEGp5rwvZA6sQ     
URL:https://www.arken.org/event/sondagsgudstjanst-kl-10-30-gunnar-bergling-2-2-2-2-2-2-2-2-2-2-2-3-2-2-2-2-2-2-2-2-2-3-4-3-2-2-4-2-2-3-2-3-3-2-2-2-2-3-2-2-3-3-2-2-3-2-2-3-2-3-2-2-2-2-2-2-3-3/
LOCATION:Kungsängen
CATEGORIES:Första sidan,Förstasidan,Helandemöte
ATTACH;FMTTYPE=image/jpeg:https://www.arken.org/wp-content/uploads/2019/01/relationsdag_cherry.jpg
END:VEVENT
BEGIN:VEVENT
DTSTART;TZID=Europe/Stockholm:20200421T140000
DTEND;TZID=Europe/Stockholm:20200421T140000
DTSTAMP:20260426T061039
CREATED:20180619T100320Z
LAST-MODIFIED:20180619T100320Z
UID:22373-1587477600-1587477600@www.arken.org
SUMMARY:Helandemöte
DESCRIPTION:Tisdagar kl 14.00. \nPlats: Barnkyrkans lokal i församlingen Arken.
URL:https://www.arken.org/event/helandeundervisning-3-2-2-2-2-2-3-2-2-2-2-2-2-3-3-7-5-3-2-2-2-3-2-2-3-2-5-3-3/
LOCATION:Kungsängen
CATEGORIES:Helandemöte
ATTACH;FMTTYPE=image/jpeg:https://www.arken.org/wp-content/uploads/2018/08/helandeundervisning.jpg
END:VEVENT
BEGIN:VEVENT
DTSTART;TZID=Europe/Stockholm:20200424T200000
DTEND;TZID=Europe/Stockholm:20200424T200000
DTSTAMP:20260426T061039
CREATED:20190108T094346Z
LAST-MODIFIED:20190108T094346Z
UID:22702-1587758400-1587758400@www.arken.org
SUMMARY:Ungdomsmöte
DESCRIPTION:Ungdomsmöte i Club Identity.
URL:https://www.arken.org/event/ungdomsmote-2-2-2-2-2-3-2-2-2-2-2-2-2-3-2-2-2-3-2-2-2-2-2-2-2-2-2-2/
LOCATION:Kungsängen
END:VEVENT
BEGIN:VEVENT
DTSTART;TZID=Europe/Stockholm:20200426T103000
DTEND;TZID=Europe/Stockholm:20200426T103000
DTSTAMP:20260426T061039
CREATED:20180604T063708Z
LAST-MODIFIED:20180604T063708Z
UID:22224-1587897000-1587897000@www.arken.org
SUMMARY:Söndagsgudstjänst LIVE kl 10.30
DESCRIPTION:Söndagsgudstjänst i församlingen Arken. Linda Bergling predikar.\nSe live sändning https://www.arken.org/live-2/ \nYoutube TV Arken https://www.youtube.com/channel/UCE8vnk9S-nfEGp5rwvZA6sQ
URL:https://www.arken.org/event/sondagsgudstjanst-kl-10-30-gunnar-bergling-2-2-2-2-2-2-2-2-2-2-2-3-2-2-2-2-2-2-2-2-2-3-4-3-2-2-4-2-2-3-2-3-3-2-2-2-2-3-2-2-3-3-2-2-3-2-2-3-2-3-2-2/
LOCATION:Kungsängen
CATEGORIES:Första sidan,Förstasidan,Gudstjänst
ATTACH;FMTTYPE=image/jpeg:https://www.arken.org/wp-content/uploads/2018/06/LindaEventBild.jpg
END:VEVENT
BEGIN:VEVENT
DTSTART;VALUE=DATE:20200427
DTEND;VALUE=DATE:20200430
DTSTAMP:20260426T061039
CREATED:20180604T063708Z
LAST-MODIFIED:20180604T063708Z
UID:22233-1587945600-1588204799@www.arken.org
SUMMARY:Vi ber för dig - LIVE bön direkt från studion måndag-fredag kl 13-14.
DESCRIPTION:Pastor Linda Bergling tillsammans med flera andra ber för dig måndag – fredag kl 13-14. Bönens sänds direkt från Arkens TV-studio. Du kan sända in ditt böneämne till info@arken.org.\nDu kan se LIVE via länken https://www.arken.org/live/\nDu kan också se LIVE  via TV Arken Youtube genom att trycka på följande länk https://www.youtube.com/channel/UCE8vnk9S-nfEGp5rwvZA6sQ     
URL:https://www.arken.org/event/sondagsgudstjanst-kl-10-30-gunnar-bergling-2-2-2-2-2-2-2-2-2-2-2-3-2-2-2-2-2-2-2-2-2-3-4-3-2-2-4-2-2-3-2-3-3-2-2-2-2-3-2-2-3-3-2-2-3-2-2-3-2-3-2-2-2-2-2-2-3-2/
LOCATION:Kungsängen
CATEGORIES:Helandemöte
ATTACH;FMTTYPE=image/jpeg:https://www.arken.org/wp-content/uploads/2019/01/relationsdag_cherry.jpg
END:VEVENT
BEGIN:VEVENT
DTSTART;TZID=Europe/Stockholm:20200428T140000
DTEND;TZID=Europe/Stockholm:20200428T140000
DTSTAMP:20260426T061039
CREATED:20180619T100320Z
LAST-MODIFIED:20180619T100320Z
UID:22375-1588082400-1588082400@www.arken.org
SUMMARY:Helandemöte
DESCRIPTION:Tisdagar kl 14.00. \nPlats: Barnkyrkans lokal i församlingen Arken.
URL:https://www.arken.org/event/helandeundervisning-3-2-2-2-2-2-3-2-2-2-2-2-2-3-3-7-5-3-2-2-2-3-2-2-3-2-5-3-2/
LOCATION:Kungsängen
CATEGORIES:Helandemöte
ATTACH;FMTTYPE=image/jpeg:https://www.arken.org/wp-content/uploads/2018/08/helandeundervisning.jpg
END:VEVENT
BEGIN:VEVENT
DTSTART;TZID=Europe/Stockholm:20200501T200000
DTEND;TZID=Europe/Stockholm:20200501T200000
DTSTAMP:20260426T061039
CREATED:20190108T094346Z
LAST-MODIFIED:20190108T094346Z
UID:22703-1588363200-1588363200@www.arken.org
SUMMARY:Ungdomsmöte
DESCRIPTION:Ungdomsmöte i Club Identity.
URL:https://www.arken.org/event/ungdomsmote-2-2-2-2-2-3-2-2-2-2-2-2-2-3-2-2-2-3-2-2-2-2-2-2-2-2-2-2-2/
LOCATION:Kungsängen
END:VEVENT
BEGIN:VEVENT
DTSTART;VALUE=DATE:20200504
DTEND;VALUE=DATE:20200509
DTSTAMP:20260426T061039
CREATED:20180604T063708Z
LAST-MODIFIED:20180604T063708Z
UID:22234-1588550400-1588982399@www.arken.org
SUMMARY:Vi ber för dig - LIVE bön direkt från studion måndag-fredag kl 13-14.
DESCRIPTION:Pastor Linda Bergling tillsammans med flera andra ber för dig måndag – fredag kl 13-14. Bönens sänds direkt från Arkens TV-studio. Du kan sända in ditt böneämne till info@arken.org.\nDu kan se LIVE via länken https://www.arken.org/live/\nDu kan också se LIVE  via TV Arken Youtube genom att trycka på följande länk https://www.youtube.com/channel/UCE8vnk9S-nfEGp5rwvZA6sQ     
URL:https://www.arken.org/event/sondagsgudstjanst-kl-10-30-gunnar-bergling-2-2-2-2-2-2-2-2-2-2-2-3-2-2-2-2-2-2-2-2-2-3-4-3-2-2-4-2-2-3-2-3-3-2-2-2-2-3-2-2-3-3-2-2-3-2-2-3-2-3-2-2-2-2-2-2-3/
LOCATION:Kungsängen
CATEGORIES:Helandemöte
ATTACH;FMTTYPE=image/jpeg:https://www.arken.org/wp-content/uploads/2019/01/relationsdag_cherry.jpg
END:VEVENT
BEGIN:VEVENT
DTSTART;TZID=Europe/Stockholm:20200505T140000
DTEND;TZID=Europe/Stockholm:20200505T140000
DTSTAMP:20260426T061039
CREATED:20180619T100320Z
LAST-MODIFIED:20180619T100320Z
UID:22376-1588687200-1588687200@www.arken.org
SUMMARY:Helandemöte
DESCRIPTION:Tisdagar kl 14.00. \nPlats: Barnkyrkans lokal i församlingen Arken. \nHit kan du gärna bjuda med de som är sjuka\, dag-lediga och dem som har har behov av personlig betjäning.  \nMötet innehåller kort undervisning om helande utifrån Bibeln\, flödesbön samt möjlighet till kort personlig förbön. \nIngen anmälan behövs. Det är bara komma.
URL:https://www.arken.org/event/helandeundervisning-3-2-2-2-2-2-3-2-2-2-2-2-2-3-3-7-5-3-2-2-2-3-2-2-3-2-5-3-2-2/
LOCATION:Kungsängen
CATEGORIES:Helandemöte
ATTACH;FMTTYPE=image/jpeg:https://www.arken.org/wp-content/uploads/2018/08/helandeundervisning.jpg
END:VEVENT
BEGIN:VEVENT
DTSTART;TZID=Europe/Stockholm:20200508T200000
DTEND;TZID=Europe/Stockholm:20200508T200000
DTSTAMP:20260426T061039
CREATED:20190108T094346Z
LAST-MODIFIED:20190108T094346Z
UID:22705-1588968000-1588968000@www.arken.org
SUMMARY:Ungdomsmöte
DESCRIPTION:Ungdomsmöte i Club Identity.
URL:https://www.arken.org/event/ungdomsmote-2-2-2-2-2-3-2-2-2-2-2-2-2-3-2-2-2-3-2-2-2-2-2-2-2-2-2-2-2-3/
LOCATION:Kungsängen
END:VEVENT
BEGIN:VEVENT
DTSTART;TZID=Europe/Stockholm:20200512T140000
DTEND;TZID=Europe/Stockholm:20200512T140000
DTSTAMP:20260426T061039
CREATED:20180619T100320Z
LAST-MODIFIED:20180619T100320Z
UID:22377-1589292000-1589292000@www.arken.org
SUMMARY:Helandemöte
DESCRIPTION:Tisdagar kl 14.00. \nPlats: Barnkyrkans lokal i församlingen Arken. \nHit kan du gärna bjuda med de som är sjuka\, dag-lediga och dem som har har behov av personlig betjäning.  \nMötet innehåller kort undervisning om helande utifrån Bibeln\, flödesbön samt möjlighet till kort personlig förbön. \nIngen anmälan behövs. Det är bara komma.
URL:https://www.arken.org/event/helandeundervisning-3-2-2-2-2-2-3-2-2-2-2-2-2-3-3-7-5-3-2-2-2-3-2-2-3-2-5-3-2-2-2/
LOCATION:Kungsängen
CATEGORIES:Helandemöte
ATTACH;FMTTYPE=image/jpeg:https://www.arken.org/wp-content/uploads/2018/08/helandeundervisning.jpg
END:VEVENT
BEGIN:VEVENT
DTSTART;TZID=Europe/Stockholm:20200513T190000
DTEND;TZID=Europe/Stockholm:20200513T190000
DTSTAMP:20260426T061039
CREATED:20180917T085847Z
LAST-MODIFIED:20180917T085847Z
UID:22537-1589396400-1589396400@www.arken.org
SUMMARY:Kvällsmöte
DESCRIPTION:Välkommen på kvällsmöte kl 19.00. Linda Bergling predikar.
URL:https://www.arken.org/event/kvallsmote-5-2-2-2-2-4-2-2-2-3-2-2-3-3-2-2-3-2-3-2-2-2-2-2-3-3-3-3-2-2-2-2-3-2-2-3/
LOCATION:Kungsängen
ATTACH;FMTTYPE=image/jpeg:https://www.arken.org/wp-content/uploads/2018/06/gudstjanst-1-1.jpg
END:VEVENT
BEGIN:VEVENT
DTSTART;TZID=Europe/Stockholm:20200515T200000
DTEND;TZID=Europe/Stockholm:20200515T200000
DTSTAMP:20260426T061039
CREATED:20190108T094346Z
LAST-MODIFIED:20190108T094346Z
UID:22706-1589572800-1589572800@www.arken.org
SUMMARY:Ungdomsmöte
DESCRIPTION:Ungdomsmöte i Club Identity.
URL:https://www.arken.org/event/ungdomsmote-2-2-2-2-2-3-2-2-2-2-2-2-2-3-2-2-2-3-2-2-2-2-2-2-2-2-2-2-2-3-2/
LOCATION:Kungsängen
END:VEVENT
BEGIN:VEVENT
DTSTART;TZID=Europe/Stockholm:20200517T090000
DTEND;TZID=Europe/Stockholm:20200517T100000
DTSTAMP:20260426T061039
CREATED:20200511T142918Z
LAST-MODIFIED:20200511T142918Z
UID:22860-1589706000-1589709600@www.arken.org
SUMMARY:Visionsdelning 17 maj. Pastor Gunnar presenterar församlingen Arken.
DESCRIPTION:Visionsdelning på söndag 17 maj kl 09.00 online.\nPastor Gunnar Bergling presenterar församlingen Arken.  Detta sänds direkt från TV-studion via en  privat länk.\nAnmälan till:  info@arken.org  senast på  fredag 15 maj. Din amälan ska ha kommit in senast kl 13.00 så att vi hinner skicka länken till dig.
URL:https://www.arken.org/event/visionsdelning-17-maj/
LOCATION:Kungsängen
CATEGORIES:Möte
ATTACH;FMTTYPE=image/jpeg:https://www.arken.org/wp-content/uploads/2019/05/1_israel-3.jpg
END:VEVENT
BEGIN:VEVENT
DTSTART;TZID=Europe/Stockholm:20200517T103000
DTEND;TZID=Europe/Stockholm:20200517T103000
DTSTAMP:20260426T061039
CREATED:20180604T063708Z
LAST-MODIFIED:20180604T063708Z
UID:22227-1589711400-1589711400@www.arken.org
SUMMARY:Söndagsgudstjänst
DESCRIPTION:Söndagsgudstjänst i församlingen Arken.
URL:https://www.arken.org/event/sondagsgudstjanst-kl-10-30-gunnar-bergling-2-2-2-2-2-2-2-2-2-2-2-3-2-2-2-2-2-2-2-2-2-3-4-3-2-2-4-2-2-3-2-3-3-2-2-2-2-3-2-2-3-3-2-2-3-2-2-3-2-3-2-2-2-3/
LOCATION:Kungsängen
CATEGORIES:Gudstjänst
ATTACH;FMTTYPE=image/jpeg:https://www.arken.org/wp-content/uploads/2018/06/gudstjanst-2-1.jpg
END:VEVENT
BEGIN:VEVENT
DTSTART;TZID=Europe/Stockholm:20200519T140000
DTEND;TZID=Europe/Stockholm:20200519T140000
DTSTAMP:20260426T061039
CREATED:20180619T100320Z
LAST-MODIFIED:20180619T100320Z
UID:22378-1589896800-1589896800@www.arken.org
SUMMARY:Helandemöte
DESCRIPTION:Tisdagar kl 14.00. \nPlats: Barnkyrkans lokal i församlingen Arken.
URL:https://www.arken.org/event/helandeundervisning-3-2-2-2-2-2-3-2-2-2-2-2-2-3-3-7-5-3-2-2-2-3-2-2-3-2-5-3-2-2-2-2/
LOCATION:Kungsängen
CATEGORIES:Helandemöte
ATTACH;FMTTYPE=image/jpeg:https://www.arken.org/wp-content/uploads/2018/08/helandeundervisning.jpg
END:VEVENT
BEGIN:VEVENT
DTSTART;TZID=Europe/Stockholm:20200522T180000
DTEND;TZID=Europe/Stockholm:20200523T210000
DTSTAMP:20260426T061039
CREATED:20200512T074729Z
LAST-MODIFIED:20200512T074729Z
UID:22861-1590170400-1590267600@www.arken.org
SUMMARY:Finskspråkig Helandekonferens
DESCRIPTION:Finskspråkig helandekonferens on line \nFredag 22 maj kl 18.00 (svensk tid) kvällsmöte\, Linda Bergling predikar\, tolkning till finska från podiet.\nLördag 23 maj kl 14.00 (svensk tid) eftermiddagsmöte\, Timo Jäppinen predikar\, mötet är helt finskspråkigt\nLördag 23 maj kl  16.00 (svensk tid) bön/flödesbön\, mötet är helt finskspråkigt\nLördag 23 maj kl 18.00 (svensk tid) kvällsmöte\, Linda Bergling predikar\, tolkning till finska från podiet. \nLivesändning via https://www.arken.org/live/  \neller via TVArken Youbube https://www.youtube.com/channel/UCE8vnk9S-nfEGp5rwvZA6sQ
URL:https://www.arken.org/event/finsksprakig-helandekonferens/
LOCATION:Kungsängen
CATEGORIES:Event,Första sidan,Förstasidan
ATTACH;FMTTYPE=image/jpeg:https://www.arken.org/wp-content/uploads/2020/03/etthjarta.jpg
END:VEVENT
BEGIN:VEVENT
DTSTART;TZID=Europe/Stockholm:20200526T140000
DTEND;TZID=Europe/Stockholm:20200526T140000
DTSTAMP:20260426T061039
CREATED:20180619T100320Z
LAST-MODIFIED:20180619T100320Z
UID:22379-1590501600-1590501600@www.arken.org
SUMMARY:Helandemöte
DESCRIPTION:Tisdagar kl 14.00. \nPlats: Barnkyrkans lokal i församlingen Arken.
URL:https://www.arken.org/event/helandeundervisning-3-2-2-2-2-2-3-2-2-2-2-2-2-3-3-7-5-3-2-2-2-3-2-2-3-2-5-3-2-2-2-3/
LOCATION:Kungsängen
CATEGORIES:Helandemöte
ATTACH;FMTTYPE=image/jpeg:https://www.arken.org/wp-content/uploads/2018/08/helandeundervisning.jpg
END:VEVENT
BEGIN:VEVENT
DTSTART;TZID=Europe/Stockholm:20200527T190000
DTEND;TZID=Europe/Stockholm:20200527T190000
DTSTAMP:20260426T061039
CREATED:20180917T085847Z
LAST-MODIFIED:20180917T085847Z
UID:22538-1590606000-1590606000@www.arken.org
SUMMARY:Kvällsmöte
DESCRIPTION:Välkommen på kvällsmöte kl 19.00.
URL:https://www.arken.org/event/kvallsmote-5-2-2-2-2-4-2-2-2-3-2-2-3-3-2-2-3-2-3-2-2-2-2-2-3-3-3-3-2-2-2-2-3-2-2-3-2/
LOCATION:Kungsängen
ATTACH;FMTTYPE=image/jpeg:https://www.arken.org/wp-content/uploads/2018/06/gudstjanst-1-1.jpg
END:VEVENT
BEGIN:VEVENT
DTSTART;TZID=Europe/Stockholm:20200529T200000
DTEND;TZID=Europe/Stockholm:20200529T200000
DTSTAMP:20260426T061039
CREATED:20190108T094346Z
LAST-MODIFIED:20190108T094346Z
UID:22707-1590782400-1590782400@www.arken.org
SUMMARY:Ungdomsmöte
DESCRIPTION:Ungdomsmöte i Club Identity.
URL:https://www.arken.org/event/ungdomsmote-2-2-2-2-2-3-2-2-2-2-2-2-2-3-2-2-2-3-2-2-2-2-2-2-2-2-2-2-2-3-3/
LOCATION:Kungsängen
END:VEVENT
END:VCALENDAR