BEGIN:VCALENDAR
VERSION:2.0
PRODID:-//Församlingen Arken - ECPv6.15.20//NONSGML v1.0//EN
CALSCALE:GREGORIAN
METHOD:PUBLISH
X-ORIGINAL-URL:https://www.arken.org
X-WR-CALDESC:Händelser för Församlingen Arken
REFRESH-INTERVAL;VALUE=DURATION:PT1H
X-Robots-Tag:noindex
X-PUBLISHED-TTL:PT1H
BEGIN:VTIMEZONE
TZID:Europe/Stockholm
BEGIN:DAYLIGHT
TZOFFSETFROM:+0100
TZOFFSETTO:+0200
TZNAME:CEST
DTSTART:20180325T010000
END:DAYLIGHT
BEGIN:STANDARD
TZOFFSETFROM:+0200
TZOFFSETTO:+0100
TZNAME:CET
DTSTART:20181028T010000
END:STANDARD
BEGIN:DAYLIGHT
TZOFFSETFROM:+0100
TZOFFSETTO:+0200
TZNAME:CEST
DTSTART:20190331T010000
END:DAYLIGHT
BEGIN:STANDARD
TZOFFSETFROM:+0200
TZOFFSETTO:+0100
TZNAME:CET
DTSTART:20191027T010000
END:STANDARD
BEGIN:DAYLIGHT
TZOFFSETFROM:+0100
TZOFFSETTO:+0200
TZNAME:CEST
DTSTART:20200329T010000
END:DAYLIGHT
BEGIN:STANDARD
TZOFFSETFROM:+0200
TZOFFSETTO:+0100
TZNAME:CET
DTSTART:20201025T010000
END:STANDARD
END:VTIMEZONE
BEGIN:VEVENT
DTSTART;TZID=Europe/Stockholm:20190804T103000
DTEND;TZID=Europe/Stockholm:20190804T103000
DTSTAMP:20260426T032416
CREATED:20180604T063708Z
LAST-MODIFIED:20180604T063708Z
UID:22190-1564914600-1564914600@www.arken.org
SUMMARY:Söndagsgudstjänst
DESCRIPTION:Söndagsgudstjänst i församlingen Arken. Lars Lindqvist predikar.
URL:https://www.arken.org/event/sondagsgudstjanst-kl-10-30-gunnar-bergling-2-2-2-2-2-2-2-2-2-2-2-3-2-2-2-2-2-2-2-2-2-3-4-3-2-2-4-2-2-3-2-3-3-2-2-2-2/
LOCATION:Kungsängen
CATEGORIES:Gudstjänst
ATTACH;FMTTYPE=image/jpeg:https://www.arken.org/wp-content/uploads/2018/06/gudstjanst-2-1.jpg
END:VEVENT
BEGIN:VEVENT
DTSTART;TZID=Europe/Stockholm:20190807T190000
DTEND;TZID=Europe/Stockholm:20190807T190000
DTSTAMP:20260426T032416
CREATED:20180917T085847Z
LAST-MODIFIED:20180917T085847Z
UID:22501-1565204400-1565204400@www.arken.org
SUMMARY:Kvällsmöte
DESCRIPTION:Välkommen på kvällsmöte kl 19.00. Lars Lindqvist predikar.
URL:https://www.arken.org/event/kvallsmote-5-2-2-2-2-4-2-2-2-3-2-2-3-3-2-2-3-2-3/
LOCATION:Kungsängen
ATTACH;FMTTYPE=image/jpeg:https://www.arken.org/wp-content/uploads/2018/06/gudstjanst-1-1.jpg
END:VEVENT
BEGIN:VEVENT
DTSTART;TZID=Europe/Stockholm:20190811T103000
DTEND;TZID=Europe/Stockholm:20190811T103000
DTSTAMP:20260426T032416
CREATED:20180604T063708Z
LAST-MODIFIED:20180604T063708Z
UID:22191-1565519400-1565519400@www.arken.org
SUMMARY:Söndagsgudstjänst
DESCRIPTION:Söndagsgudstjänst i församlingen Arken. Anita Björk predikar.
URL:https://www.arken.org/event/sondagsgudstjanst-kl-10-30-gunnar-bergling-2-2-2-2-2-2-2-2-2-2-2-3-2-2-2-2-2-2-2-2-2-3-4-3-2-2-4-2-2-3-2-3-3-2-2-2-2-2/
LOCATION:Kungsängen
CATEGORIES:Gudstjänst
ATTACH;FMTTYPE=image/jpeg:https://www.arken.org/wp-content/uploads/2018/06/gudstjanst-2-1.jpg
END:VEVENT
BEGIN:VEVENT
DTSTART;TZID=Europe/Stockholm:20190814T190000
DTEND;TZID=Europe/Stockholm:20190814T190000
DTSTAMP:20260426T032416
CREATED:20180917T085847Z
LAST-MODIFIED:20180917T085847Z
UID:22502-1565809200-1565809200@www.arken.org
SUMMARY:Kvällsmöte
DESCRIPTION:Välkommen på kvällsmöte kl 19.00. Abeba Russom predikar.
URL:https://www.arken.org/event/kvallsmote-5-2-2-2-2-4-2-2-2-3-2-2-3-3-2-2-3-2-2-2/
LOCATION:Kungsängen
ATTACH;FMTTYPE=image/jpeg:https://www.arken.org/wp-content/uploads/2018/06/gudstjanst-1-1.jpg
END:VEVENT
BEGIN:VEVENT
DTSTART;TZID=Europe/Stockholm:20190818T103000
DTEND;TZID=Europe/Stockholm:20190818T103000
DTSTAMP:20260426T032416
CREATED:20180604T063708Z
LAST-MODIFIED:20180604T063708Z
UID:22192-1566124200-1566124200@www.arken.org
SUMMARY:Söndagsgudstjänst
DESCRIPTION:Söndagsgudstjänst i församlingen Arken. Thorbjörn Holst Larsen predikar.
URL:https://www.arken.org/event/sondagsgudstjanst-kl-10-30-gunnar-bergling-2-2-2-2-2-2-2-2-2-2-2-3-2-2-2-2-2-2-2-2-2-3-4-3-2-2-4-2-2-3-2-3-3-2-2-2-2-2-2/
LOCATION:Kungsängen
CATEGORIES:Gudstjänst
ATTACH;FMTTYPE=image/jpeg:https://www.arken.org/wp-content/uploads/2018/06/gudstjanst-2-1.jpg
END:VEVENT
BEGIN:VEVENT
DTSTART;TZID=Europe/Stockholm:20190821T190000
DTEND;TZID=Europe/Stockholm:20190821T190000
DTSTAMP:20260426T032416
CREATED:20180917T085847Z
LAST-MODIFIED:20180917T085847Z
UID:22504-1566414000-1566414000@www.arken.org
SUMMARY:Kvällsmöte
DESCRIPTION:Välkommen på kvällsmöte kl 19.00. Lars Lindqvist predikar.
URL:https://www.arken.org/event/kvallsmote-5-2-2-2-2-4-2-2-2-3-2-2-3-3-2-2-3-2-3-2/
LOCATION:Kungsängen
ATTACH;FMTTYPE=image/jpeg:https://www.arken.org/wp-content/uploads/2018/06/gudstjanst-1-1.jpg
END:VEVENT
BEGIN:VEVENT
DTSTART;TZID=Europe/Stockholm:20190823T200000
DTEND;TZID=Europe/Stockholm:20190823T200000
DTSTAMP:20260426T032416
CREATED:20190108T094346Z
LAST-MODIFIED:20190108T094346Z
UID:22680-1566590400-1566590400@www.arken.org
SUMMARY:Ungdomsmöte
DESCRIPTION:Ungdomsmöte i Club Identity.
URL:https://www.arken.org/event/ungdomsmote-2-2-2-2-2-3-2-2-2-2-2-2-2-3-2/
LOCATION:Kungsängen
END:VEVENT
BEGIN:VEVENT
DTSTART;TZID=Europe/Stockholm:20190825T103000
DTEND;TZID=Europe/Stockholm:20190825T103000
DTSTAMP:20260426T032416
CREATED:20180604T063708Z
LAST-MODIFIED:20180604T063708Z
UID:22193-1566729000-1566729000@www.arken.org
SUMMARY:Söndagsgudstjänst
DESCRIPTION:Söndagsgudstjänst i församlingen Arken. Linda Bergling predikar.
URL:https://www.arken.org/event/sondagsgudstjanst-kl-10-30-gunnar-bergling-2-2-2-2-2-2-2-2-2-2-2-3-2-2-2-2-2-2-2-2-2-3-4-3-2-2-4-2-2-3-2-3-3-2-2-2-2-3/
LOCATION:Kungsängen
CATEGORIES:Gudstjänst
ATTACH;FMTTYPE=image/jpeg:https://www.arken.org/wp-content/uploads/2018/06/gudstjanst-2-1.jpg
END:VEVENT
BEGIN:VEVENT
DTSTART;TZID=Europe/Stockholm:20190828T190000
DTEND;TZID=Europe/Stockholm:20190828T190000
DTSTAMP:20260426T032416
CREATED:20180917T085847Z
LAST-MODIFIED:20180917T085847Z
UID:22505-1567018800-1567018800@www.arken.org
SUMMARY:Kvällsmöte
DESCRIPTION:Välkommen på kvällsmöte kl 19.00. Gunnar Bergling predikar.
URL:https://www.arken.org/event/kvallsmote-5-2-2-2-2-4-2-2-2-3-2-2-3-3-2-2-3-2-3-2-2/
LOCATION:Kungsängen
ATTACH;FMTTYPE=image/jpeg:https://www.arken.org/wp-content/uploads/2018/06/gudstjanst-1-1.jpg
END:VEVENT
BEGIN:VEVENT
DTSTART;VALUE=DATE:20190829
DTEND;VALUE=DATE:20190830
DTSTAMP:20260426T032416
CREATED:20180619T102346Z
LAST-MODIFIED:20180619T102346Z
UID:22397-1567036800-1567123199@www.arken.org
SUMMARY:Bibelskolans årskurs 1 och Upprättelselinje startar
DESCRIPTION:Årskurs 1 och Upprättelselinjen startar på bibelskolan Jesus Helar och Upprättar.
URL:https://www.arken.org/event/bibelskolans-arskurs-1-och-upprattelselinje-startar-2-2-2/
LOCATION:Kungsängen
CATEGORIES:Event,Utbildning
END:VEVENT
BEGIN:VEVENT
DTSTART;TZID=Europe/Stockholm:20190830T200000
DTEND;TZID=Europe/Stockholm:20190830T200000
DTSTAMP:20260426T032416
CREATED:20190108T094346Z
LAST-MODIFIED:20190108T094346Z
UID:22679-1567195200-1567195200@www.arken.org
SUMMARY:Ungdomsmöte
DESCRIPTION:Ungdomsmöte i Club Identity.
URL:https://www.arken.org/event/ungdomsmote-2-2-2-2-2-3-2-2-2-2-2-2-2-3-3/
LOCATION:Kungsängen
END:VEVENT
END:VCALENDAR