BEGIN:VCALENDAR
VERSION:2.0
PRODID:-//Församlingen Arken - ECPv6.15.20//NONSGML v1.0//EN
CALSCALE:GREGORIAN
METHOD:PUBLISH
X-WR-CALNAME:Församlingen Arken
X-ORIGINAL-URL:https://www.arken.org
X-WR-CALDESC:Händelser för Församlingen Arken
REFRESH-INTERVAL;VALUE=DURATION:PT1H
X-Robots-Tag:noindex
X-PUBLISHED-TTL:PT1H
BEGIN:VTIMEZONE
TZID:Europe/Stockholm
BEGIN:DAYLIGHT
TZOFFSETFROM:+0100
TZOFFSETTO:+0200
TZNAME:CEST
DTSTART:20180325T010000
END:DAYLIGHT
BEGIN:STANDARD
TZOFFSETFROM:+0200
TZOFFSETTO:+0100
TZNAME:CET
DTSTART:20181028T010000
END:STANDARD
BEGIN:DAYLIGHT
TZOFFSETFROM:+0100
TZOFFSETTO:+0200
TZNAME:CEST
DTSTART:20190331T010000
END:DAYLIGHT
BEGIN:STANDARD
TZOFFSETFROM:+0200
TZOFFSETTO:+0100
TZNAME:CET
DTSTART:20191027T010000
END:STANDARD
BEGIN:DAYLIGHT
TZOFFSETFROM:+0100
TZOFFSETTO:+0200
TZNAME:CEST
DTSTART:20200329T010000
END:DAYLIGHT
BEGIN:STANDARD
TZOFFSETFROM:+0200
TZOFFSETTO:+0100
TZNAME:CET
DTSTART:20201025T010000
END:STANDARD
BEGIN:DAYLIGHT
TZOFFSETFROM:+0100
TZOFFSETTO:+0200
TZNAME:CEST
DTSTART:20210328T010000
END:DAYLIGHT
BEGIN:STANDARD
TZOFFSETFROM:+0200
TZOFFSETTO:+0100
TZNAME:CET
DTSTART:20211031T010000
END:STANDARD
BEGIN:DAYLIGHT
TZOFFSETFROM:+0100
TZOFFSETTO:+0200
TZNAME:CEST
DTSTART:20220327T010000
END:DAYLIGHT
BEGIN:STANDARD
TZOFFSETFROM:+0200
TZOFFSETTO:+0100
TZNAME:CET
DTSTART:20221030T010000
END:STANDARD
END:VTIMEZONE
BEGIN:VEVENT
DTSTART;VALUE=DATE:20191223
DTEND;VALUE=DATE:20210104
DTSTAMP:20260425T231029
CREATED:20181112T105357Z
LAST-MODIFIED:20220124T144643Z
UID:22599-1577059200-1609718399@www.arken.org
SUMMARY:Julen och Nyår 2020
DESCRIPTION:Se direktsändningarna:\nSe direktsändningarna genom att gå in här https://www.arken.org/live-2/  \neller gå in på TV arken Youtube. Du kan gå in här https://www.youtube.com/channel/UCE8vnk9S-nfEGp5rwvZA6sQ \nLive-sändningen kommer också upp på Församlingen Arkens sida på Facebook https://www.facebook.com/F%C3%B6rsamlingen-Arken-973436349353059/
URL:https://www.arken.org/event/julkrubba-pa-julafton-2-2/
LOCATION:Kungsängen
CATEGORIES:Event,Möte
ATTACH;FMTTYPE=image/jpeg:https://www.arken.org/wp-content/uploads/2018/11/AnnonsExpressen2022jan.jpg
END:VEVENT
BEGIN:VEVENT
DTSTART;TZID=Europe/Stockholm:20200105T103000
DTEND;TZID=Europe/Stockholm:20200105T103000
DTSTAMP:20260425T231029
CREATED:20180604T063708Z
LAST-MODIFIED:20180604T063708Z
UID:22209-1578220200-1578220200@www.arken.org
SUMMARY:Söndagsgudstjänst
DESCRIPTION:Söndagsgudstjänst i församlingen Arken. Gunnar Bergling predikar.
URL:https://www.arken.org/event/sondagsgudstjanst-kl-10-30-gunnar-bergling-2-2-2-2-2-2-2-2-2-2-2-3-2-2-2-2-2-2-2-2-2-3-4-3-2-2-4-2-2-3-2-3-3-2-2-2-2-3-2-2-3-3-2-2/
LOCATION:Kungsängen
CATEGORIES:Gudstjänst
ATTACH;FMTTYPE=image/jpeg:https://www.arken.org/wp-content/uploads/2018/06/gudstjanst-2-1.jpg
END:VEVENT
BEGIN:VEVENT
DTSTART;TZID=Europe/Stockholm:20200107T140000
DTEND;TZID=Europe/Stockholm:20200107T140000
DTSTAMP:20260425T231029
CREATED:20180619T100320Z
LAST-MODIFIED:20180619T100320Z
UID:22366-1578405600-1578405600@www.arken.org
SUMMARY:Helandemöte
DESCRIPTION:Tisdagar kl 14.00. \nPlats: Stora salen. \nHit kan du gärna bjuda med de som är sjuka\, dag-lediga och dem som har har behov av personlig betjäning.  \nMötet innehåller kort undervisning om helande utifrån Bibeln\, flödesbön samt möjlighet till kort personlig förbön. \nIngen anmälan behövs. Det är bara komma.
URL:https://www.arken.org/event/helandeundervisning-3-2-2-2-2-2-3-2-2-2-2-2-2-3-3-7-5-3-2-2-2-3-2-2-3-2-3/
LOCATION:Kungsängen
CATEGORIES:Helandemöte
ATTACH;FMTTYPE=image/jpeg:https://www.arken.org/wp-content/uploads/2018/08/helandeundervisning.jpg
END:VEVENT
BEGIN:VEVENT
DTSTART;TZID=Europe/Stockholm:20200108T190000
DTEND;TZID=Europe/Stockholm:20200108T190000
DTSTAMP:20260425T231029
CREATED:20180917T085847Z
LAST-MODIFIED:20180917T085847Z
UID:22515-1578510000-1578510000@www.arken.org
SUMMARY:Kvällsmöte
DESCRIPTION:Välkommen på kvällsmöte kl 19.00. Gunnar Bergling predikar.
URL:https://www.arken.org/event/kvallsmote-5-2-2-2-2-4-2-2-2-3-2-2-3-3-2-2-3-2-3-2-2-2-2-2-3-3/
LOCATION:Kungsängen
ATTACH;FMTTYPE=image/jpeg:https://www.arken.org/wp-content/uploads/2018/06/gudstjanst-1-1.jpg
END:VEVENT
BEGIN:VEVENT
DTSTART;VALUE=DATE:20200112
DTEND;VALUE=DATE:20200113
DTSTAMP:20260425T231029
CREATED:20191003T075111Z
LAST-MODIFIED:20191003T075111Z
UID:22783-1578787200-1578873599@www.arken.org
SUMMARY:Helandemöte i Uppsala med Anita Björk
DESCRIPTION:Arken fortsätter att komma till Uppsala. På söndag den 12 januari är det helandemöte med Anita Björk. Adressen är Skomakargatan 2\, Uppsala. Fika från kl 16.00. Mötet börjar kl 17.00. Välkommen!
URL:https://www.arken.org/event/helandemote-i-uppsala-med-anita-bjork-3-2/
LOCATION:Kungsängen
CATEGORIES:Event,Första sidan,Förstasidan,Helandemöte
ATTACH;FMTTYPE=image/jpeg:https://www.arken.org/wp-content/uploads/2019/05/Anita-i-uppsala.jpg
END:VEVENT
BEGIN:VEVENT
DTSTART;TZID=Europe/Stockholm:20200112T103000
DTEND;TZID=Europe/Stockholm:20200112T103000
DTSTAMP:20260425T231029
CREATED:20180604T063708Z
LAST-MODIFIED:20180604T063708Z
UID:22210-1578825000-1578825000@www.arken.org
SUMMARY:Söndagsgudstjänst
DESCRIPTION:Söndagsgudstjänst i församlingen Arken. Linda Bergling predikar.
URL:https://www.arken.org/event/sondagsgudstjanst-kl-10-30-gunnar-bergling-2-2-2-2-2-2-2-2-2-2-2-3-2-2-2-2-2-2-2-2-2-3-4-3-2-2-4-2-2-3-2-3-3-2-2-2-2-3-2-2-3-3-2-2-3/
LOCATION:Kungsängen
CATEGORIES:Gudstjänst
ATTACH;FMTTYPE=image/jpeg:https://www.arken.org/wp-content/uploads/2018/06/gudstjanst-2-1.jpg
END:VEVENT
BEGIN:VEVENT
DTSTART;TZID=Europe/Stockholm:20200115T190000
DTEND;TZID=Europe/Stockholm:20200115T190000
DTSTAMP:20260425T231029
CREATED:20180917T085847Z
LAST-MODIFIED:20180917T085847Z
UID:22520-1579114800-1579114800@www.arken.org
SUMMARY:Kvällsmöte
DESCRIPTION:Välkommen på kvällsmöte kl 19.00. Gunnar Bergling predikar.
URL:https://www.arken.org/event/kvallsmote-5-2-2-2-2-4-2-2-2-3-2-2-3-3-2-2-3-2-3-2-2-2-2-2-3-3-3/
LOCATION:Kungsängen
ATTACH;FMTTYPE=image/jpeg:https://www.arken.org/wp-content/uploads/2018/06/gudstjanst-1-1.jpg
END:VEVENT
BEGIN:VEVENT
DTSTART;TZID=Europe/Stockholm:20200119T103000
DTEND;TZID=Europe/Stockholm:20200119T103000
DTSTAMP:20260425T231029
CREATED:20180604T063708Z
LAST-MODIFIED:20180604T063708Z
UID:22211-1579429800-1579429800@www.arken.org
SUMMARY:Söndagsgudstjänst
DESCRIPTION:Söndagsgudstjänst i församlingen Arken. Gunnar Bergling predikar.
URL:https://www.arken.org/event/sondagsgudstjanst-kl-10-30-gunnar-bergling-2-2-2-2-2-2-2-2-2-2-2-3-2-2-2-2-2-2-2-2-2-3-4-3-2-2-4-2-2-3-2-3-3-2-2-2-2-3-2-2-3-3-2-2-3-2/
LOCATION:Kungsängen
CATEGORIES:Gudstjänst
ATTACH;FMTTYPE=image/jpeg:https://www.arken.org/wp-content/uploads/2018/06/gudstjanst-2-1.jpg
END:VEVENT
BEGIN:VEVENT
DTSTART;TZID=Europe/Stockholm:20200122T190000
DTEND;TZID=Europe/Stockholm:20200122T190000
DTSTAMP:20260425T231029
CREATED:20180917T085847Z
LAST-MODIFIED:20180917T085847Z
UID:22521-1579719600-1579719600@www.arken.org
SUMMARY:Kvällsmöte med nattvard
DESCRIPTION:Välkommen på kvällsmöte med nattvard kl 19.00. Gunnar Bergling predikar.
URL:https://www.arken.org/event/kvallsmote-5-2-2-2-2-4-2-2-2-3-2-2-3-3-2-2-3-2-3-2-2-2-2-2-3-3-3-2/
LOCATION:Kungsängen
ATTACH;FMTTYPE=image/jpeg:https://www.arken.org/wp-content/uploads/2018/06/gudstjanst-1-1.jpg
END:VEVENT
BEGIN:VEVENT
DTSTART;TZID=Europe/Stockholm:20200126T103000
DTEND;TZID=Europe/Stockholm:20200126T103000
DTSTAMP:20260425T231029
CREATED:20180604T063708Z
LAST-MODIFIED:20180604T063708Z
UID:22212-1580034600-1580034600@www.arken.org
SUMMARY:Söndagsgudstjänst
DESCRIPTION:Söndagsgudstjänst i församlingen Arken. Linda Bergling predikar.
URL:https://www.arken.org/event/sondagsgudstjanst-kl-10-30-gunnar-bergling-2-2-2-2-2-2-2-2-2-2-2-3-2-2-2-2-2-2-2-2-2-3-4-3-2-2-4-2-2-3-2-3-3-2-2-2-2-3-2-2-3-3-2-2-3-2-2/
LOCATION:Kungsängen
CATEGORIES:Gudstjänst
ATTACH;FMTTYPE=image/jpeg:https://www.arken.org/wp-content/uploads/2018/06/gudstjanst-2-1.jpg
END:VEVENT
BEGIN:VEVENT
DTSTART;VALUE=DATE:20200127
DTEND;VALUE=DATE:20200130
DTSTAMP:20260425T231029
CREATED:20180101T073047Z
LAST-MODIFIED:20180101T073047Z
UID:22131-1580083200-1580342399@www.arken.org
SUMMARY:Helandedagar
DESCRIPTION:Helandedagar\nHelandedagarna innehåller olika pass av både enskilda förbönssamtal och kollektiv betjäning. Vid de gemensamma samlingarna\, sitter du i en vilstol och tar emot kort undervisning och sedan ber förebedjarna och lägger händerna på dig i Jesu namn. \n\nFlödesbön\nEn förbönsledare ber ut olika bibelord och låter sig ledas av Guds Ande i att be ut olika behovsområden. Förebedjarna går runt och förlöser Guds kraft och smörjelse in i din kropp och själ. Du får ta emot befrielse\, helande\, läkedom och framtidstro från Jesus. \nI trygga händer\nDen personal och de medarbetare som arbetar inom Arkens helandetjänst praktiserar biblisk själavård. De har utbildats ett till tre år på vår bibelskola Jesus Helar och Upprättar och har fullständig tystnadsplikt. De flesta du möter i samband med själavårdssamtal och helandedagar vid Helandecentret arbetar helt ideellt\, utan ekonomisk ersättning. \n\n\nSchema\nMåndag\n16.00-17.00   Inskrivning\n17.00-17.45    Kvällsmat\n17.45-20.00   Kvällssamling \nTisdag\n8.30-18.00     Helandedag \nOnsdag\n8.30-18.00    Helandedag\n19.00-21.00  Helandemöte \nTider för mat tisdag-onsdag\n7.30-8.15       Frukost\n11.45-13.15    Lunch\n15.45-16.30   Fika\n18.00 -19.00 Kvällsmat \nKostnader och boende\n1 600 kr  Helandedagar utan logi\n1 850 kr  Helandedagar med logi \nBoka din plats här >>
URL:https://www.arken.org/event/helandedagar-11-13-3-2-2-2-2-2-2-3/
LOCATION:Kungsängen
CATEGORIES:Helandedagar
ATTACH;FMTTYPE=image/jpeg:https://www.arken.org/wp-content/uploads/2018/01/OL2A5623-scaled.jpg
END:VEVENT
BEGIN:VEVENT
DTSTART;TZID=Europe/Stockholm:20200129T190000
DTEND;TZID=Europe/Stockholm:20200129T190000
DTSTAMP:20260425T231029
CREATED:20180917T085847Z
LAST-MODIFIED:20180917T085847Z
UID:22522-1580324400-1580324400@www.arken.org
SUMMARY:Kvällsmöte
DESCRIPTION:Välkommen på kvällsmöte kl 19.00. Linda Bergling predikar.
URL:https://www.arken.org/event/kvallsmote-5-2-2-2-2-4-2-2-2-3-2-2-3-3-2-2-3-2-3-2-2-2-2-2-3-3-3-2-2/
LOCATION:Kungsängen
ATTACH;FMTTYPE=image/jpeg:https://www.arken.org/wp-content/uploads/2018/06/gudstjanst-1-1.jpg
END:VEVENT
END:VCALENDAR